BEGIN:VCALENDAR
VERSION:2.0
PRODID:-//Community Services Unlimited : Serving The People Body and Soul - ECPv6.15.20//NONSGML v1.0//EN
CALSCALE:GREGORIAN
METHOD:PUBLISH
X-ORIGINAL-URL:https://csuinc.org
X-WR-CALDESC:Events for Community Services Unlimited : Serving The People Body and Soul
REFRESH-INTERVAL;VALUE=DURATION:PT1H
X-Robots-Tag:noindex
X-PUBLISHED-TTL:PT1H
BEGIN:VTIMEZONE
TZID:UTC
BEGIN:STANDARD
TZOFFSETFROM:+0000
TZOFFSETTO:+0000
TZNAME:UTC
DTSTART:20220101T000000
END:STANDARD
END:VTIMEZONE
BEGIN:VEVENT
DTSTART;TZID=UTC:20230114T090000
DTEND;TZID=UTC:20230114T120000
DTSTAMP:20260426T025204
CREATED:20221227T173830Z
LAST-MODIFIED:20221227T174044Z
UID:3106-1673686800-1673697600@csuinc.org
SUMMARY:In-person Workshop @ CSU/EXPO Urban Mini Farm
DESCRIPTION:Join us for a free in-person workshop at the CSU/EXPO Urban Mini Farm. RSVP HERE to secure your spot and free supplies. Come ready for hands-on activities. \nIn-person Workshop @ CSU/EXPO Urban Mini Farm \nDate: Saturday\, JANUARY 14th\, 2023 \nTime: 9:00 am – 12:00 Noon \nLocation: 3990 Bill Robertson Ln. Los Angeles 90037(Next to Senior Center) \nGardening Topic – Tree Pruning: We will discuss how and when to prune fruit trees. Participants will receive soil\, seeds and liquid plant food. Please bring your own containers. \nCooking Topic – Atole: We will demonstrate how to make a traditional Mexican hot drink called Atole using the CSU grown Seneca corn. Participants will receive the ingredients and recipe to make at home. \n RSVP HERE
URL:https://csuinc.org/event/in-person-workshop-csu-expo-urban-mini-farm/
LOCATION:CSU/Expo Mini Farm\, 3990 Bill Robertson Ln\, Los Angeles\, CA\, 90044\, United States
ORGANIZER;CN="Community Services Unlimited Inc.":MAILTO:csu@csuinc.org
END:VEVENT
END:VCALENDAR