BEGIN:VCALENDAR
VERSION:2.0
PRODID:-//Community Services Unlimited : Serving The People Body and Soul - ECPv6.15.20//NONSGML v1.0//EN
CALSCALE:GREGORIAN
METHOD:PUBLISH
X-ORIGINAL-URL:https://csuinc.org
X-WR-CALDESC:Events for Community Services Unlimited : Serving The People Body and Soul
REFRESH-INTERVAL;VALUE=DURATION:PT1H
X-Robots-Tag:noindex
X-PUBLISHED-TTL:PT1H
BEGIN:VTIMEZONE
TZID:UTC
BEGIN:STANDARD
TZOFFSETFROM:+0000
TZOFFSETTO:+0000
TZNAME:UTC
DTSTART:20220101T000000
END:STANDARD
END:VTIMEZONE
BEGIN:VEVENT
DTSTART;TZID=UTC:20230408T090000
DTEND;TZID=UTC:20230408T120000
DTSTAMP:20260425T215609
CREATED:20230330T162131Z
LAST-MODIFIED:20230330T162145Z
UID:3253-1680944400-1680955200@csuinc.org
SUMMARY:Garden Gateway - April Offerings
DESCRIPTION:Hello Garden Gatewayers\, \n  \nJoin us for a free in-person workshop at the CSU/EXPO Urban Mini Farm. \nRSVP HERE to secure your spot and free supplies. \nCome ready for hands-on activities \n  \nIn-person Workshop @ CSU/EXPO Urban Mini Farm \nDate: Saturday April 8\, 2023 \nTime: 9:00 am – 12:00 Noon \nLocation: 3990 Bill Robertson Ln. Los Angeles 90037(Next to Senior Center) \n  \nGardening Topic – DIY Organic Plant Food and Pesticide: We will discuss making safe organic plant food and pesticide out of plants\, herbs\, food waste and common kitchen items. \nCooking Topic – Chocolate Avocado Mousse: We will make a delicious chocolate mousse using avocado\, blended with the CSU Bicycle Blender. \nRSVP HERE
URL:https://csuinc.org/event/garden-gateway-april-offerings/
LOCATION:CSU/Expo Mini Farm\, 3990 Bill Robertson Ln\, Los Angeles\, CA\, 90044\, United States
ORGANIZER;CN="Community Services Unlimited Inc.":MAILTO:csu@csuinc.org
END:VEVENT
END:VCALENDAR