BEGIN:VCALENDAR
VERSION:2.0
PRODID:-//Community Services Unlimited : Serving The People Body and Soul - ECPv6.15.20//NONSGML v1.0//EN
CALSCALE:GREGORIAN
METHOD:PUBLISH
X-ORIGINAL-URL:https://csuinc.org
X-WR-CALDESC:Events for Community Services Unlimited : Serving The People Body and Soul
REFRESH-INTERVAL;VALUE=DURATION:PT1H
X-Robots-Tag:noindex
X-PUBLISHED-TTL:PT1H
BEGIN:VTIMEZONE
TZID:UTC
BEGIN:STANDARD
TZOFFSETFROM:+0000
TZOFFSETTO:+0000
TZNAME:UTC
DTSTART:20220101T000000
END:STANDARD
END:VTIMEZONE
BEGIN:VEVENT
DTSTART;TZID=UTC:20231014T090000
DTEND;TZID=UTC:20231014T120000
DTSTAMP:20260425T124015
CREATED:20231009T172317Z
LAST-MODIFIED:20231009T172318Z
UID:3379-1697274000-1697284800@csuinc.org
SUMMARY:GGW: Composting & Making Garden Fresh Herbal Infusions
DESCRIPTION:Gardening Topic – Composting \nJoin us as we dig deeper into composting. We will discuss methods\, tips and share experiences of composting at the CSU/EXPO Urban Mini Farm. Pit\, pile\, container\, vermicomposting\, bokashi and more… \nCooking Topic – Making Garden Fresh Herbal Infusions \nLearn how to harvest\, dry and make a simple refreshing herbal infusion using citrus and herbs from the garden. This recipe is a nice way to enjoy the benefits of medicinal herbs from your garden on a hot day. \nGGW participants must RSVP to receive free materials. RSVP’ing helps us plan for the workshop. Please RSVP individually for each adult that will be attending with you.
URL:https://csuinc.org/event/ggw-composting-making-garden-fresh-herbal-infusions/
LOCATION:CSU/Expo Mini Farm\, 3990 Bill Robertson Ln\, Los Angeles\, CA\, 90044\, United States
CATEGORIES:Community Services Unlimited Event,CSU/Expo Urban Mini Farm,Garden Gateway
ORGANIZER;CN="Community Services Unlimited Inc.":MAILTO:csu@csuinc.org
END:VEVENT
END:VCALENDAR