BEGIN:VCALENDAR
VERSION:2.0
PRODID:-//Community Services Unlimited : Serving The People Body and Soul - ECPv6.15.20//NONSGML v1.0//EN
CALSCALE:GREGORIAN
METHOD:PUBLISH
X-ORIGINAL-URL:https://csuinc.org
X-WR-CALDESC:Events for Community Services Unlimited : Serving The People Body and Soul
REFRESH-INTERVAL;VALUE=DURATION:PT1H
X-Robots-Tag:noindex
X-PUBLISHED-TTL:PT1H
BEGIN:VTIMEZONE
TZID:UTC
BEGIN:STANDARD
TZOFFSETFROM:+0000
TZOFFSETTO:+0000
TZNAME:UTC
DTSTART:20230101T000000
END:STANDARD
END:VTIMEZONE
BEGIN:VEVENT
DTSTART;TZID=UTC:20240608T090000
DTEND;TZID=UTC:20240608T120000
DTSTAMP:20260425T003717
CREATED:20231011T204536Z
LAST-MODIFIED:20240207T225341Z
UID:3402-1717837200-1717848000@csuinc.org
SUMMARY:Garden Gateway: Beating the Heat/Water Conservation
DESCRIPTION:Details to be announced a couple of weeks before event date
URL:https://csuinc.org/event/garden-gateway-dba-6/
LOCATION:CSU/Expo Mini Farm\, 3990 Bill Robertson Ln\, Los Angeles\, CA\, 90044\, United States
CATEGORIES:Community Services Unlimited Event,CSU/Expo Urban Mini Farm,Garden Gateway
ORGANIZER;CN="Community Services Unlimited Inc.":MAILTO:csu@csuinc.org
END:VEVENT
BEGIN:VEVENT
DTSTART;TZID=UTC:20240608T090000
DTEND;TZID=UTC:20240608T120000
DTSTAMP:20260425T003717
CREATED:20231011T204615Z
LAST-MODIFIED:20240207T232110Z
UID:3404-1717837200-1717848000@csuinc.org
SUMMARY:Garden Gateway: Beating the Heat/Water Conservation
DESCRIPTION:Details to be announced a couple of weeks before event date
URL:https://csuinc.org/event/garden-gateway-dba-7/
LOCATION:CSU/Expo Mini Farm\, 3990 Bill Robertson Ln\, Los Angeles\, CA\, 90044\, United States
CATEGORIES:Community Services Unlimited Event,CSU/Expo Urban Mini Farm,Garden Gateway
ORGANIZER;CN="Community Services Unlimited Inc.":MAILTO:csu@csuinc.org
END:VEVENT
END:VCALENDAR