BEGIN:VCALENDAR
VERSION:2.0
PRODID:-//Community Services Unlimited : Serving The People Body and Soul - ECPv6.15.20//NONSGML v1.0//EN
CALSCALE:GREGORIAN
METHOD:PUBLISH
X-ORIGINAL-URL:https://csuinc.org
X-WR-CALDESC:Events for Community Services Unlimited : Serving The People Body and Soul
REFRESH-INTERVAL;VALUE=DURATION:PT1H
X-Robots-Tag:noindex
X-PUBLISHED-TTL:PT1H
BEGIN:VTIMEZONE
TZID:UTC
BEGIN:STANDARD
TZOFFSETFROM:+0000
TZOFFSETTO:+0000
TZNAME:UTC
DTSTART:20240101T000000
END:STANDARD
END:VTIMEZONE
BEGIN:VEVENT
DTSTART;TZID=UTC:20251129T100000
DTEND;TZID=UTC:20251129T110000
DTSTAMP:20260423T231540
CREATED:20251022T193104Z
LAST-MODIFIED:20251022T193104Z
UID:3675-1764410400-1764414000@csuinc.org
SUMMARY:Yoga Saturdays
DESCRIPTION:Yoga for Mind & Body Connection Saturdays \nTIME: 10am-11am every Saturday \nLOCATION: Paul Robeson Center @ 6569 S. Vermont Ave. Los Angeles\, CA 90044 \n  \nIn these times of incredible stress & strain\, join us as we work and build the connections between them. \nDon’t have a mat? No problem\, we got you. No prior experience needed. \nFree\, donations welcomed! \nCheck out our website and/or social media for cancellations or changes in schedule \nweb: www.csuinc.org \nig: @csuinc \nQuestions? Email: csu@csuinc.org
URL:https://csuinc.org/event/yoga-saturdays-7/
LOCATION:CA
END:VEVENT
END:VCALENDAR