BEGIN:VCALENDAR
VERSION:2.0
PRODID:-//Community Services Unlimited : Serving The People Body and Soul - ECPv6.15.20//NONSGML v1.0//EN
CALSCALE:GREGORIAN
METHOD:PUBLISH
X-WR-CALNAME:Community Services Unlimited : Serving The People Body and Soul
X-ORIGINAL-URL:https://csuinc.org
X-WR-CALDESC:Events for Community Services Unlimited : Serving The People Body and Soul
REFRESH-INTERVAL;VALUE=DURATION:PT1H
X-Robots-Tag:noindex
X-PUBLISHED-TTL:PT1H
BEGIN:VTIMEZONE
TZID:UTC
BEGIN:STANDARD
TZOFFSETFROM:+0000
TZOFFSETTO:+0000
TZNAME:UTC
DTSTART:20240101T000000
END:STANDARD
END:VTIMEZONE
BEGIN:VEVENT
DTSTART;TZID=UTC:20251206T090000
DTEND;TZID=UTC:20251206T120000
DTSTAMP:20260423T220332
CREATED:20251201T194423Z
LAST-MODIFIED:20251201T195020Z
UID:3700-1765011600-1765022400@csuinc.org
SUMMARY:Volunteer Day @ the CSU/EXPO Mini Farm
DESCRIPTION:Thank you for your interest in volunteering with CSU.\nPlease read our guidelines carefully here: https://csuinc.org/about-us/volunteer-with-us/ \n\n\nIndividual Volunteers:\nIndividuals are welcome to volunteer with an RSVP. We cannot respond to all emails or voicemail messages about volunteering; check our Events Calendar to ensure there isn’t a cancellation. RSVP by emailing volunteer@csuinc.org. \n\nGroup Volunteers:\n\n\nGroups must make prior arrangements before coming to volunteer. We cannot accommodate groups without prior arrangement; if you wish to bring a group from your workplace\, school\, organization please send an email to volunteer@csuinc.org. We welcome groups of all sizes to come and volunteer with us as part of their community service and team building activities. Groups must make prior arrangements before coming to volunteer. If you wish to arrange a group volunteer event for your workplace\, school\, or organization please review THIS DOCUMENT and email volunteer@csuinc.org. \nPlease be aware that our response may not be immediate. We appreciate your patience. We hope to work the soil together soon. 
URL:https://csuinc.org/event/volunteer-day-the-csu-expo-mini-farm/
LOCATION:CSU/Expo Mini Farm\, 3990 Bill Robertson Ln\, Los Angeles\, CA\, 90044\, United States
CATEGORIES:Community Services Unlimited Event,CSU/Expo Urban Mini Farm,Garden Gateway
ORGANIZER;CN="Community Services Unlimited Inc.":MAILTO:csu@csuinc.org
END:VEVENT
BEGIN:VEVENT
DTSTART;TZID=UTC:20251206T100000
DTEND;TZID=UTC:20251206T110000
DTSTAMP:20260423T220332
CREATED:20251022T193158Z
LAST-MODIFIED:20251022T193158Z
UID:3677-1765015200-1765018800@csuinc.org
SUMMARY:Yoga Saturdays
DESCRIPTION:Yoga for Mind & Body Connection Saturdays \nTIME: 10am-11am every Saturday \nLOCATION: Paul Robeson Center @ 6569 S. Vermont Ave. Los Angeles\, CA 90044 \n  \nIn these times of incredible stress & strain\, join us as we work and build the connections between them. \nDon’t have a mat? No problem\, we got you. No prior experience needed. \nFree\, donations welcomed! \nCheck out our website and/or social media for cancellations or changes in schedule \nweb: www.csuinc.org \nig: @csuinc \nQuestions? Email: csu@csuinc.org
URL:https://csuinc.org/event/yoga-saturdays-8/
LOCATION:CA
END:VEVENT
END:VCALENDAR