BEGIN:VCALENDAR
VERSION:2.0
PRODID:-//Community Services Unlimited : Serving The People Body and Soul - ECPv6.15.20//NONSGML v1.0//EN
CALSCALE:GREGORIAN
METHOD:PUBLISH
X-ORIGINAL-URL:https://csuinc.org
X-WR-CALDESC:Events for Community Services Unlimited : Serving The People Body and Soul
REFRESH-INTERVAL;VALUE=DURATION:PT1H
X-Robots-Tag:noindex
X-PUBLISHED-TTL:PT1H
BEGIN:VTIMEZONE
TZID:UTC
BEGIN:STANDARD
TZOFFSETFROM:+0000
TZOFFSETTO:+0000
TZNAME:UTC
DTSTART:20220101T000000
END:STANDARD
END:VTIMEZONE
BEGIN:VEVENT
DTSTART;TZID=UTC:20231013T090000
DTEND;TZID=UTC:20231013T120000
DTSTAMP:20260425T153957
CREATED:20231012T190719Z
LAST-MODIFIED:20231012T194402Z
UID:3407-1697187600-1697198400@csuinc.org
SUMMARY:Volunteer day @ the CSU Mini Farm
DESCRIPTION:Thank you for your interest in volunteering with CSU.\nPlease read our full guidelines carefully here: https://csuinc.org/about-us/volunteer-with-us/ \n\n\nIndividual Volunteers:\nIndividuals are welcome to volunteer with an RSVP. We cannot respond to all emails or voicemail messages about volunteering; check our Events Calendar to ensure there isn’t a cancellation. RSVP by emailing volunteer@csuinc.org. \n Group Volunteers:\n\n\nGroups must make prior arrangements before coming to volunteer. We cannot accommodate groups without prior arrangement; if you wish to bring a group from your workplace\, school\, organization please send an email to volunteer@csuinc.org. We welcome groups of all sizes to come and volunteer with us as part of their community service and team building activities. Groups must make prior arrangements before coming to volunteer. If you wish to arrange a group volunteer event for your workplace\, school\, or organization please review THIS DOCUMENT and email volunteer@csuinc.org. \nPlease be aware that our response may not be immediate. We appreciate your patience. We hope to work the soil together soon. 
URL:https://csuinc.org/event/volunteer-day-the-csu-mini-farm/
LOCATION:CSU/Expo Mini Farm\, 3990 Bill Robertson Ln\, Los Angeles\, CA\, 90044\, United States
CATEGORIES:Community Services Unlimited Event,CSU/Expo Urban Mini Farm,Garden Gateway
ORGANIZER;CN="Community Services Unlimited Inc.":MAILTO:csu@csuinc.org
END:VEVENT
BEGIN:VEVENT
DTSTART;TZID=UTC:20231014T090000
DTEND;TZID=UTC:20231014T120000
DTSTAMP:20260425T153957
CREATED:20231009T172317Z
LAST-MODIFIED:20231009T172318Z
UID:3379-1697274000-1697284800@csuinc.org
SUMMARY:GGW: Composting & Making Garden Fresh Herbal Infusions
DESCRIPTION:Gardening Topic – Composting \nJoin us as we dig deeper into composting. We will discuss methods\, tips and share experiences of composting at the CSU/EXPO Urban Mini Farm. Pit\, pile\, container\, vermicomposting\, bokashi and more… \nCooking Topic – Making Garden Fresh Herbal Infusions \nLearn how to harvest\, dry and make a simple refreshing herbal infusion using citrus and herbs from the garden. This recipe is a nice way to enjoy the benefits of medicinal herbs from your garden on a hot day. \nGGW participants must RSVP to receive free materials. RSVP’ing helps us plan for the workshop. Please RSVP individually for each adult that will be attending with you.
URL:https://csuinc.org/event/ggw-composting-making-garden-fresh-herbal-infusions/
LOCATION:CSU/Expo Mini Farm\, 3990 Bill Robertson Ln\, Los Angeles\, CA\, 90044\, United States
CATEGORIES:Community Services Unlimited Event,CSU/Expo Urban Mini Farm,Garden Gateway
ORGANIZER;CN="Community Services Unlimited Inc.":MAILTO:csu@csuinc.org
END:VEVENT
BEGIN:VEVENT
DTSTART;TZID=UTC:20231018T090000
DTEND;TZID=UTC:20231018T120000
DTSTAMP:20260425T153957
CREATED:20231013T190848Z
LAST-MODIFIED:20231012T194335Z
UID:3409-1697619600-1697630400@csuinc.org
SUMMARY:Volunteer day @ the CSU Mini Farm
DESCRIPTION:Thank you for your interest in volunteering with CSU.\nPlease read our guidelines carefully here: https://csuinc.org/about-us/volunteer-with-us/ \n\n\nIndividual Volunteers:\n  \nIndividuals are welcome to volunteer with an RSVP. We cannot respond to all emails or voicemail messages about volunteering; check our Events Calendar to ensure there isn’t a cancellation. RSVP by emailing volunteer@csuinc.org. \n\nGroup Volunteers:\n\n\nGroups must make prior arrangements before coming to volunteer. We cannot accommodate groups without prior arrangement; if you wish to bring a group from your workplace\, school\, organization please send an email to volunteer@csuinc.org. We welcome groups of all sizes to come and volunteer with us as part of their community service and team building activities. Groups must make prior arrangements before coming to volunteer. If you wish to arrange a group volunteer event for your workplace\, school\, or organization please review THIS DOCUMENT and email volunteer@csuinc.org. \nPlease be aware that our response may not be immediate. We appreciate your patience. We hope to work the soil together soon. 
URL:https://csuinc.org/event/volunteer-day-the-csu-mini-farm-2/
LOCATION:CSU/Expo Mini Farm\, 3990 Bill Robertson Ln\, Los Angeles\, CA\, 90044\, United States
CATEGORIES:Community Services Unlimited Event,CSU/Expo Urban Mini Farm,Garden Gateway
ORGANIZER;CN="Community Services Unlimited Inc.":MAILTO:csu@csuinc.org
END:VEVENT
BEGIN:VEVENT
DTSTART;TZID=UTC:20231020T090000
DTEND;TZID=UTC:20231020T120000
DTSTAMP:20260425T153957
CREATED:20231012T190951Z
LAST-MODIFIED:20231012T190951Z
UID:3411-1697792400-1697803200@csuinc.org
SUMMARY:Volunteer day @ the CSU Mini Farm
DESCRIPTION:Thank you for your interest in volunteering with CSU.\nPlease read our guidelines carefully here: https://csuinc.org/about-us/volunteer-with-us/ \n\n\nIndividual Volunteers:\n  \nIndividuals are welcome to volunteer with an RSVP. We cannot respond to all emails or voicemail messages about volunteering; check our Events Calendar to ensure there isn’t a cancellation. RSVP by emailing volunteer@csuinc.org. \n\nGroup Volunteers:\n\n\nGroups must make prior arrangements before coming to volunteer. We cannot accommodate groups without prior arrangement; if you wish to bring a group from your workplace\, school\, organization please send an email to volunteer@csuinc.org. We welcome groups of all sizes to come and volunteer with us as part of their community service and team building activities. Groups must make prior arrangements before coming to volunteer. If you wish to arrange a group volunteer event for your workplace\, school\, or organization please review THIS DOCUMENT and email volunteer@csuinc.org. \nPlease be aware that our response may not be immediate. We appreciate your patience. We hope to work the soil together soon. 
URL:https://csuinc.org/event/volunteer-day-the-csu-mini-farm-3/
LOCATION:CSU/Expo Mini Farm\, 3990 Bill Robertson Ln\, Los Angeles\, CA\, 90044\, United States
CATEGORIES:Community Services Unlimited Event,CSU/Expo Urban Mini Farm,Garden Gateway
ORGANIZER;CN="Community Services Unlimited Inc.":MAILTO:csu@csuinc.org
END:VEVENT
BEGIN:VEVENT
DTSTART;TZID=UTC:20231025T090000
DTEND;TZID=UTC:20231025T120000
DTSTAMP:20260425T153957
CREATED:20231012T191054Z
LAST-MODIFIED:20231012T191117Z
UID:3413-1698224400-1698235200@csuinc.org
SUMMARY:Volunteer day @ the CSU Mini Farm
DESCRIPTION:Thank you for your interest in volunteering with CSU.\nPlease read our guidelines carefully here: https://csuinc.org/about-us/volunteer-with-us/ \n\n\nIndividual Volunteers:\n  \nIndividuals are welcome to volunteer with an RSVP. We cannot respond to all emails or voicemail messages about volunteering; check our Events Calendar to ensure there isn’t a cancellation. RSVP by emailing volunteer@csuinc.org. \n\nGroup Volunteers:\n\n\nGroups must make prior arrangements before coming to volunteer. We cannot accommodate groups without prior arrangement; if you wish to bring a group from your workplace\, school\, organization please send an email to volunteer@csuinc.org. We welcome groups of all sizes to come and volunteer with us as part of their community service and team building activities. Groups must make prior arrangements before coming to volunteer. If you wish to arrange a group volunteer event for your workplace\, school\, or organization please review THIS DOCUMENT and email volunteer@csuinc.org. \nPlease be aware that our response may not be immediate. We appreciate your patience. We hope to work the soil together soon. 
URL:https://csuinc.org/event/volunteer-day-the-csu-mini-farm-4/
LOCATION:CSU/Expo Mini Farm\, 3990 Bill Robertson Ln\, Los Angeles\, CA\, 90044\, United States
CATEGORIES:Community Services Unlimited Event,CSU/Expo Urban Mini Farm,Garden Gateway
ORGANIZER;CN="Community Services Unlimited Inc.":MAILTO:csu@csuinc.org
END:VEVENT
BEGIN:VEVENT
DTSTART;TZID=UTC:20231027T090000
DTEND;TZID=UTC:20231027T120000
DTSTAMP:20260425T153957
CREATED:20231012T191201Z
LAST-MODIFIED:20231012T191201Z
UID:3416-1698397200-1698408000@csuinc.org
SUMMARY:Volunteer day @ the CSU Mini Farm
DESCRIPTION:Thank you for your interest in volunteering with CSU.\nPlease read our guidelines carefully here: https://csuinc.org/about-us/volunteer-with-us/ \n\n\nIndividual Volunteers:\n  \nIndividuals are welcome to volunteer with an RSVP. We cannot respond to all emails or voicemail messages about volunteering; check our Events Calendar to ensure there isn’t a cancellation. RSVP by emailing volunteer@csuinc.org. \n\nGroup Volunteers:\n\n\nGroups must make prior arrangements before coming to volunteer. We cannot accommodate groups without prior arrangement; if you wish to bring a group from your workplace\, school\, organization please send an email to volunteer@csuinc.org. We welcome groups of all sizes to come and volunteer with us as part of their community service and team building activities. Groups must make prior arrangements before coming to volunteer. If you wish to arrange a group volunteer event for your workplace\, school\, or organization please review THIS DOCUMENT and email volunteer@csuinc.org. \nPlease be aware that our response may not be immediate. We appreciate your patience. We hope to work the soil together soon. 
URL:https://csuinc.org/event/volunteer-day-the-csu-mini-farm-5/
LOCATION:CSU/Expo Mini Farm\, 3990 Bill Robertson Ln\, Los Angeles\, CA\, 90044\, United States
CATEGORIES:Community Services Unlimited Event,CSU/Expo Urban Mini Farm,Garden Gateway
ORGANIZER;CN="Community Services Unlimited Inc.":MAILTO:csu@csuinc.org
END:VEVENT
END:VCALENDAR