BEGIN:VCALENDAR
VERSION:2.0
PRODID:-//Community Services Unlimited : Serving The People Body and Soul - ECPv6.15.20//NONSGML v1.0//EN
CALSCALE:GREGORIAN
METHOD:PUBLISH
X-ORIGINAL-URL:https://csuinc.org
X-WR-CALDESC:Events for Community Services Unlimited : Serving The People Body and Soul
REFRESH-INTERVAL;VALUE=DURATION:PT1H
X-Robots-Tag:noindex
X-PUBLISHED-TTL:PT1H
BEGIN:VTIMEZONE
TZID:UTC
BEGIN:STANDARD
TZOFFSETFROM:+0000
TZOFFSETTO:+0000
TZNAME:UTC
DTSTART:20220101T000000
END:STANDARD
END:VTIMEZONE
BEGIN:VEVENT
DTSTART;TZID=UTC:20231101T090000
DTEND;TZID=UTC:20231101T120000
DTSTAMP:20260425T134142
CREATED:20231012T191350Z
LAST-MODIFIED:20231012T191350Z
UID:3419-1698829200-1698840000@csuinc.org
SUMMARY:Volunteer day @ the CSU Mini Farm
DESCRIPTION:Thank you for your interest in volunteering with CSU.\nPlease read our guidelines carefully here: https://csuinc.org/about-us/volunteer-with-us/ \n\n\nIndividual Volunteers:\n  \nIndividuals are welcome to volunteer with an RSVP. We cannot respond to all emails or voicemail messages about volunteering; check our Events Calendar to ensure there isn’t a cancellation. RSVP by emailing volunteer@csuinc.org. \n\nGroup Volunteers:\n\n\nGroups must make prior arrangements before coming to volunteer. We cannot accommodate groups without prior arrangement; if you wish to bring a group from your workplace\, school\, organization please send an email to volunteer@csuinc.org. We welcome groups of all sizes to come and volunteer with us as part of their community service and team building activities. Groups must make prior arrangements before coming to volunteer. If you wish to arrange a group volunteer event for your workplace\, school\, or organization please review THIS DOCUMENT and email volunteer@csuinc.org. \nPlease be aware that our response may not be immediate. We appreciate your patience. We hope to work the soil together soon. 
URL:https://csuinc.org/event/volunteer-day-the-csu-mini-farm-6/
LOCATION:CSU/Expo Mini Farm\, 3990 Bill Robertson Ln\, Los Angeles\, CA\, 90044\, United States
CATEGORIES:Community Services Unlimited Event,CSU/Expo Urban Mini Farm,Garden Gateway
ORGANIZER;CN="Community Services Unlimited Inc.":MAILTO:csu@csuinc.org
END:VEVENT
BEGIN:VEVENT
DTSTART;TZID=UTC:20231103T090000
DTEND;TZID=UTC:20231103T120000
DTSTAMP:20260425T134142
CREATED:20231012T191428Z
LAST-MODIFIED:20231012T191428Z
UID:3421-1699002000-1699012800@csuinc.org
SUMMARY:Volunteer day @ the CSU Mini Farm
DESCRIPTION:Thank you for your interest in volunteering with CSU.\nPlease read our guidelines carefully here: https://csuinc.org/about-us/volunteer-with-us/ \n\n\nIndividual Volunteers:\n  \nIndividuals are welcome to volunteer with an RSVP. We cannot respond to all emails or voicemail messages about volunteering; check our Events Calendar to ensure there isn’t a cancellation. RSVP by emailing volunteer@csuinc.org. \n\nGroup Volunteers:\n\n\nGroups must make prior arrangements before coming to volunteer. We cannot accommodate groups without prior arrangement; if you wish to bring a group from your workplace\, school\, organization please send an email to volunteer@csuinc.org. We welcome groups of all sizes to come and volunteer with us as part of their community service and team building activities. Groups must make prior arrangements before coming to volunteer. If you wish to arrange a group volunteer event for your workplace\, school\, or organization please review THIS DOCUMENT and email volunteer@csuinc.org. \nPlease be aware that our response may not be immediate. We appreciate your patience. We hope to work the soil together soon. 
URL:https://csuinc.org/event/volunteer-day-the-csu-mini-farm-7/
LOCATION:CSU/Expo Mini Farm\, 3990 Bill Robertson Ln\, Los Angeles\, CA\, 90044\, United States
CATEGORIES:Community Services Unlimited Event,CSU/Expo Urban Mini Farm,Garden Gateway
ORGANIZER;CN="Community Services Unlimited Inc.":MAILTO:csu@csuinc.org
END:VEVENT
BEGIN:VEVENT
DTSTART;VALUE=DATE:20231104
DTEND;VALUE=DATE:20231105
DTSTAMP:20260425T134142
CREATED:20231011T202409Z
LAST-MODIFIED:20231011T202410Z
UID:3386-1699056000-1699142399@csuinc.org
SUMMARY:No volunteering @ CSU Mini Farm
DESCRIPTION:Cancelled due to USC football game @ the Coliseum!
URL:https://csuinc.org/event/no-volunteering-csu-mini-farm-2/
LOCATION:CSU/Expo Mini Farm\, 3990 Bill Robertson Ln\, Los Angeles\, CA\, 90044\, United States
CATEGORIES:Community Services Unlimited Event,CSU/Expo Urban Mini Farm
ORGANIZER;CN="Community Services Unlimited Inc.":MAILTO:csu@csuinc.org
END:VEVENT
BEGIN:VEVENT
DTSTART;TZID=UTC:20231104T090000
DTEND;TZID=UTC:20231104T120000
DTSTAMP:20260425T134142
CREATED:20231011T201628Z
LAST-MODIFIED:20231011T201647Z
UID:3381-1699088400-1699099200@csuinc.org
SUMMARY:Volunteer Day @ PRC
DESCRIPTION:Volunteer day at PRC in preparation for our Seafood Festival on Nov. 11\, 2023! \nWe’ll work on clearing out some garden beds\, preparing outreach materials\,cleaning out our veggie bus\, and more. Hope to see you there!
URL:https://csuinc.org/event/volunteer-day-prc/
LOCATION:Paul Robeson Community Wellness Center\, 6569 S. Vermont Ave.\, Los Angeles\, CA\, 90044\, United States
CATEGORIES:Community Services Unlimited Event,Paul Robeson Community Wellness Center
ORGANIZER;CN="Community Services Unlimited Inc.":MAILTO:csu@csuinc.org
END:VEVENT
BEGIN:VEVENT
DTSTART;TZID=UTC:20231108T090000
DTEND;TZID=UTC:20231108T120000
DTSTAMP:20260425T134142
CREATED:20231012T191551Z
LAST-MODIFIED:20231012T191551Z
UID:3424-1699434000-1699444800@csuinc.org
SUMMARY:Volunteer day @ the CSU Mini Farm
DESCRIPTION:Thank you for your interest in volunteering with CSU.\nPlease read our guidelines carefully here: https://csuinc.org/about-us/volunteer-with-us/ \n\n\nIndividual Volunteers:\n  \nIndividuals are welcome to volunteer with an RSVP. We cannot respond to all emails or voicemail messages about volunteering; check our Events Calendar to ensure there isn’t a cancellation. RSVP by emailing volunteer@csuinc.org. \n\nGroup Volunteers:\n\n\nGroups must make prior arrangements before coming to volunteer. We cannot accommodate groups without prior arrangement; if you wish to bring a group from your workplace\, school\, organization please send an email to volunteer@csuinc.org. We welcome groups of all sizes to come and volunteer with us as part of their community service and team building activities. Groups must make prior arrangements before coming to volunteer. If you wish to arrange a group volunteer event for your workplace\, school\, or organization please review THIS DOCUMENT and email volunteer@csuinc.org. \nPlease be aware that our response may not be immediate. We appreciate your patience. We hope to work the soil together soon. 
URL:https://csuinc.org/event/volunteer-day-the-csu-mini-farm-8/
LOCATION:CSU/Expo Mini Farm\, 3990 Bill Robertson Ln\, Los Angeles\, CA\, 90044\, United States
CATEGORIES:Community Services Unlimited Event,CSU/Expo Urban Mini Farm,Garden Gateway
ORGANIZER;CN="Community Services Unlimited Inc.":MAILTO:csu@csuinc.org
END:VEVENT
BEGIN:VEVENT
DTSTART;TZID=UTC:20231110T090000
DTEND;TZID=UTC:20231110T120000
DTSTAMP:20260425T134142
CREATED:20231012T191712Z
LAST-MODIFIED:20231012T191712Z
UID:3426-1699606800-1699617600@csuinc.org
SUMMARY:Volunteer day @ the CSU Mini Farm
DESCRIPTION:Thank you for your interest in volunteering with CSU.\nPlease read our guidelines carefully here: https://csuinc.org/about-us/volunteer-with-us/ \n\n\nIndividual Volunteers:\n  \nIndividuals are welcome to volunteer with an RSVP. We cannot respond to all emails or voicemail messages about volunteering; check our Events Calendar to ensure there isn’t a cancellation. RSVP by emailing volunteer@csuinc.org. \n\nGroup Volunteers:\n\n\nGroups must make prior arrangements before coming to volunteer. We cannot accommodate groups without prior arrangement; if you wish to bring a group from your workplace\, school\, organization please send an email to volunteer@csuinc.org. We welcome groups of all sizes to come and volunteer with us as part of their community service and team building activities. Groups must make prior arrangements before coming to volunteer. If you wish to arrange a group volunteer event for your workplace\, school\, or organization please review THIS DOCUMENT and email volunteer@csuinc.org. \nPlease be aware that our response may not be immediate. We appreciate your patience. We hope to work the soil together soon. 
URL:https://csuinc.org/event/volunteer-day-the-csu-mini-farm-9/
LOCATION:CSU/Expo Mini Farm\, 3990 Bill Robertson Ln\, Los Angeles\, CA\, 90044\, United States
CATEGORIES:Community Services Unlimited Event,CSU/Expo Urban Mini Farm,Garden Gateway
ORGANIZER;CN="Community Services Unlimited Inc.":MAILTO:csu@csuinc.org
END:VEVENT
BEGIN:VEVENT
DTSTART;TZID=UTC:20231111T090000
DTEND;TZID=UTC:20231111T120000
DTSTAMP:20260425T134142
CREATED:20231017T034315Z
LAST-MODIFIED:20231025T212350Z
UID:3457-1699693200-1699704000@csuinc.org
SUMMARY:South Central Sustainable Seafood Fest
DESCRIPTION:Join us on Saturday\, November 11th for a community celebration of local seafood at the South Central Sustainable Seafood Fest. We’re excited to be bringing local farmers and chefs\, fresh\, local seafood that you’ll get to eat\, and many fun-filled family activities to the Village Market Place! \nPlease fill out this form to confirm that you will be attending the South Central Sustainable Seafood Fest. \n¡Únase a nosotros el sábado 11 de noviembre de 2023 para una celebración comunitaria de mariscos locales en el Festival de Mariscos Sostenibles! ¡Estamos emocionados de traer a agricultores y chefs locales\, mariscos frescos y locales que podrás disfrutar\, y muchas actividades divertidas para toda la familia en Village Market Place! \nRSVP Here: \nhttps://docs.google.com/forms/d/e/1FAIpQLScHdaW5_vF0WD_JHHMTXKP19mG-dbJV2CZxDtdewJynzeg5xg/viewform
URL:https://csuinc.org/event/south-central-sustainable-seafood-fest/
LOCATION:Paul Robeson Community Wellness Center\, 6569 S. Vermont Ave.\, Los Angeles\, CA\, 90044\, United States
CATEGORIES:Community Services Unlimited Event,Garden Gateway,Paul Robeson Community Wellness Center,Village Market Place
ORGANIZER;CN="Community Services Unlimited Inc.":MAILTO:csu@csuinc.org
END:VEVENT
BEGIN:VEVENT
DTSTART;TZID=UTC:20231115T090000
DTEND;TZID=UTC:20231115T120000
DTSTAMP:20260425T134142
CREATED:20231012T191834Z
LAST-MODIFIED:20231012T191834Z
UID:3428-1700038800-1700049600@csuinc.org
SUMMARY:Volunteer day @ the CSU Mini Farm
DESCRIPTION:Thank you for your interest in volunteering with CSU.\nPlease read our guidelines carefully here: https://csuinc.org/about-us/volunteer-with-us/ \n\n\nIndividual Volunteers:\n  \nIndividuals are welcome to volunteer with an RSVP. We cannot respond to all emails or voicemail messages about volunteering; check our Events Calendar to ensure there isn’t a cancellation. RSVP by emailing volunteer@csuinc.org. \n\nGroup Volunteers:\n\n\nGroups must make prior arrangements before coming to volunteer. We cannot accommodate groups without prior arrangement; if you wish to bring a group from your workplace\, school\, organization please send an email to volunteer@csuinc.org. We welcome groups of all sizes to come and volunteer with us as part of their community service and team building activities. Groups must make prior arrangements before coming to volunteer. If you wish to arrange a group volunteer event for your workplace\, school\, or organization please review THIS DOCUMENT and email volunteer@csuinc.org. \nPlease be aware that our response may not be immediate. We appreciate your patience. We hope to work the soil together soon. 
URL:https://csuinc.org/event/volunteer-day-the-csu-mini-farm-10/
LOCATION:CSU/Expo Mini Farm\, 3990 Bill Robertson Ln\, Los Angeles\, CA\, 90044\, United States
CATEGORIES:Community Services Unlimited Event,CSU/Expo Urban Mini Farm,Garden Gateway
ORGANIZER;CN="Community Services Unlimited Inc.":MAILTO:csu@csuinc.org
END:VEVENT
BEGIN:VEVENT
DTSTART;TZID=UTC:20231117T090000
DTEND;TZID=UTC:20231117T120000
DTSTAMP:20260425T134142
CREATED:20231012T191926Z
LAST-MODIFIED:20231012T191926Z
UID:3430-1700211600-1700222400@csuinc.org
SUMMARY:Volunteer day @ the CSU Mini Farm
DESCRIPTION:Thank you for your interest in volunteering with CSU.\nPlease read our guidelines carefully here: https://csuinc.org/about-us/volunteer-with-us/ \n\n\nIndividual Volunteers:\n  \nIndividuals are welcome to volunteer with an RSVP. We cannot respond to all emails or voicemail messages about volunteering; check our Events Calendar to ensure there isn’t a cancellation. RSVP by emailing volunteer@csuinc.org. \n\nGroup Volunteers:\n\n\nGroups must make prior arrangements before coming to volunteer. We cannot accommodate groups without prior arrangement; if you wish to bring a group from your workplace\, school\, organization please send an email to volunteer@csuinc.org. We welcome groups of all sizes to come and volunteer with us as part of their community service and team building activities. Groups must make prior arrangements before coming to volunteer. If you wish to arrange a group volunteer event for your workplace\, school\, or organization please review THIS DOCUMENT and email volunteer@csuinc.org. \nPlease be aware that our response may not be immediate. We appreciate your patience. We hope to work the soil together soon. 
URL:https://csuinc.org/event/volunteer-day-the-csu-mini-farm-11/
LOCATION:CSU/Expo Mini Farm\, 3990 Bill Robertson Ln\, Los Angeles\, CA\, 90044\, United States
CATEGORIES:Community Services Unlimited Event,CSU/Expo Urban Mini Farm,Garden Gateway
ORGANIZER;CN="Community Services Unlimited Inc.":MAILTO:csu@csuinc.org
END:VEVENT
BEGIN:VEVENT
DTSTART;VALUE=DATE:20231118
DTEND;VALUE=DATE:20231119
DTSTAMP:20260425T134142
CREATED:20231011T202523Z
LAST-MODIFIED:20231011T202523Z
UID:3388-1700265600-1700351999@csuinc.org
SUMMARY:No volunteering @ CSU Mini Farm
DESCRIPTION:Cancelled due to USC football game @ the Coliseum!
URL:https://csuinc.org/event/no-volunteering-csu-mini-farm-3/
LOCATION:CSU/Expo Mini Farm\, 3990 Bill Robertson Ln\, Los Angeles\, CA\, 90044\, United States
CATEGORIES:Community Services Unlimited Event,CSU/Expo Urban Mini Farm
ORGANIZER;CN="Community Services Unlimited Inc.":MAILTO:csu@csuinc.org
END:VEVENT
BEGIN:VEVENT
DTSTART;TZID=UTC:20231129T090000
DTEND;TZID=UTC:20231129T120000
DTSTAMP:20260425T134142
CREATED:20231012T192256Z
LAST-MODIFIED:20231012T192256Z
UID:3435-1701248400-1701259200@csuinc.org
SUMMARY:Volunteer day @ the CSU Mini Farm
DESCRIPTION:Thank you for your interest in volunteering with CSU.\nPlease read our guidelines carefully here: https://csuinc.org/about-us/volunteer-with-us/ \n\n\nIndividual Volunteers:\n  \nIndividuals are welcome to volunteer with an RSVP. We cannot respond to all emails or voicemail messages about volunteering; check our Events Calendar to ensure there isn’t a cancellation. RSVP by emailing volunteer@csuinc.org. \n\nGroup Volunteers:\n\n\nGroups must make prior arrangements before coming to volunteer. We cannot accommodate groups without prior arrangement; if you wish to bring a group from your workplace\, school\, organization please send an email to volunteer@csuinc.org. We welcome groups of all sizes to come and volunteer with us as part of their community service and team building activities. Groups must make prior arrangements before coming to volunteer. If you wish to arrange a group volunteer event for your workplace\, school\, or organization please review THIS DOCUMENT and email volunteer@csuinc.org. \nPlease be aware that our response may not be immediate. We appreciate your patience. We hope to work the soil together soon. 
URL:https://csuinc.org/event/volunteer-day-the-csu-mini-farm-13/
LOCATION:CSU/Expo Mini Farm\, 3990 Bill Robertson Ln\, Los Angeles\, CA\, 90044\, United States
CATEGORIES:Community Services Unlimited Event,CSU/Expo Urban Mini Farm,Garden Gateway
ORGANIZER;CN="Community Services Unlimited Inc.":MAILTO:csu@csuinc.org
END:VEVENT
END:VCALENDAR