BEGIN:VCALENDAR
VERSION:2.0
PRODID:-//Community Services Unlimited : Serving The People Body and Soul - ECPv6.15.20//NONSGML v1.0//EN
CALSCALE:GREGORIAN
METHOD:PUBLISH
X-ORIGINAL-URL:https://csuinc.org
X-WR-CALDESC:Events for Community Services Unlimited : Serving The People Body and Soul
REFRESH-INTERVAL;VALUE=DURATION:PT1H
X-Robots-Tag:noindex
X-PUBLISHED-TTL:PT1H
BEGIN:VTIMEZONE
TZID:UTC
BEGIN:STANDARD
TZOFFSETFROM:+0000
TZOFFSETTO:+0000
TZNAME:UTC
DTSTART:20230101T000000
END:STANDARD
END:VTIMEZONE
BEGIN:VEVENT
DTSTART;TZID=UTC:20240210T090000
DTEND;TZID=UTC:20240210T120000
DTSTAMP:20260425T104542
CREATED:20231011T204136Z
LAST-MODIFIED:20240130T193835Z
UID:3394-1707555600-1707566400@csuinc.org
SUMMARY:Garden Gateway: Fruit Tree Pruning/Care
DESCRIPTION:Join us Saturday February 10th for a free gardening and healthy cooking workshop! \nDate: Saturday\, February 10th 2024 \nTime: 9:00 am – 12:00 Noon \nLocation: CSU/EXPO Urban Mini Farm \n3990 Bill Robertson Ln. Los Angeles\, CA 90037(Next to Senior Center) \nGardening Topic – Fruit Tree Pruning/Care: This month we will discuss basic fruit tree pruning and care. Come ready for hands-on activities. Participants will take home seeds and seedlings. \nCooking Topic – Sesame Mustard Greens: Last month participants transplanted and took home mustard greens. This month we will learn to make a sesame mustard green recipe.  Participants will take home ingredients to make the recipe at home. \n\nGGW participants must RSVP using this form to receive free materials. RSVP’ing helps us plan for the workshop. Please RSVP individually for each adult that will be attending with you.\n\n\nFEB RSVP LINK
URL:https://csuinc.org/event/garden-gateway-tba/
LOCATION:CSU/Expo Mini Farm\, 3990 Bill Robertson Ln\, Los Angeles\, CA\, 90044\, United States
CATEGORIES:Community Services Unlimited Event,CSU/Expo Urban Mini Farm,Garden Gateway
ORGANIZER;CN="Community Services Unlimited Inc.":MAILTO:csu@csuinc.org
END:VEVENT
END:VCALENDAR