BEGIN:VCALENDAR
VERSION:2.0
PRODID:-//Community Services Unlimited : Serving The People Body and Soul - ECPv6.15.20//NONSGML v1.0//EN
CALSCALE:GREGORIAN
METHOD:PUBLISH
X-ORIGINAL-URL:https://csuinc.org
X-WR-CALDESC:Events for Community Services Unlimited : Serving The People Body and Soul
REFRESH-INTERVAL;VALUE=DURATION:PT1H
X-Robots-Tag:noindex
X-PUBLISHED-TTL:PT1H
BEGIN:VTIMEZONE
TZID:UTC
BEGIN:STANDARD
TZOFFSETFROM:+0000
TZOFFSETTO:+0000
TZNAME:UTC
DTSTART:20250101T000000
END:STANDARD
END:VTIMEZONE
BEGIN:VEVENT
DTSTART;TZID=UTC:20260110T090000
DTEND;TZID=UTC:20260110T120000
DTSTAMP:20260424T000737
CREATED:20251201T203635Z
LAST-MODIFIED:20251215T183053Z
UID:3716-1768035600-1768046400@csuinc.org
SUMMARY:Garden Gateway: Growing in Raised Beds and Containers
DESCRIPTION:January 10th\, 9 AM–12 PM\nat the CSU/Expo Mini Urban Farm\, 3990 Bill Robertson Ln\, Los Angeles\, CA.\nLink to register: HERE\n\n\nGardening focus: Growing in Raised Beds and Containers using wood\, screws\, and raised bed materials. This month’s gardening lesson centers on building and growing in raised beds and containers\, with an emphasis on flexibility for different home and community settings. Participants will learn how to assemble raised beds\, understand soil depth and drainage needs\, and choose crops that do well in these systems. The session will cover how raised beds and containers support better soil structure\, water management\, and accessibility for gardeners of different ages and abilities.\nRegistered participants will receive wood\, screws\, and raised bed materials\, gaining hands-on experience in constructing or reinforcing growing spaces that can be adapted to yards\, patios\, or small urban plots.\n\nCooking focus: Greens Kimchi with fresh greens and a jar to start your own ferment. The nutritional topic\, Greens Kimchi\, a fermented dish that uses leafy greens to create a tangy\, nutrient-dense food that can be stored and eaten over time. Participants will learn the basics of fermentation\, including salt ratios\, packing\, timing\, and safe storage. The session will highlight how fermentation supports gut health\, reduces food waste\, and turns surplus or seasonal greens into a long-lasting pantry staple.\n\nRegistered participants will receive fresh greens and a jar to begin their own batch of Greens Kimchi during the workshop and take it home.\n\nRSVP and Deposit Update\nIn order to help us better prepare for accurate numbers of attendees we are asking for a small deposit ($7) to register for the workshop. Once you attend\, you will receive a voucher to spend the deposit at the Village Market Place. If the deposit is prohibitive\, you may request a waiver by emailing csu@csuinc.org.\n\nPlease note: waiver recipients who are no-shows the day of the workshop will not be eligible to receive a waiver for future workshops. Vouchers are redeemable at any time before the final workshop in June 2026. They can be used separately\, or together\, and vouchers cannot be replaced.
URL:https://csuinc.org/event/volunteering-csu-expo-urban-mini-farm/
LOCATION:CSU/Expo Mini Farm\, 3990 Bill Robertson Ln\, Los Angeles\, CA\, 90044\, United States
CATEGORIES:Community Services Unlimited Event,CSU/Expo Urban Mini Farm,Garden Gateway
ORGANIZER;CN="Community Services Unlimited Inc.":MAILTO:csu@csuinc.org
END:VEVENT
END:VCALENDAR