BEGIN:VCALENDAR
VERSION:2.0
PRODID:-//Community Services Unlimited : Serving The People Body and Soul - ECPv6.15.20//NONSGML v1.0//EN
CALSCALE:GREGORIAN
METHOD:PUBLISH
X-WR-CALNAME:Community Services Unlimited : Serving The People Body and Soul
X-ORIGINAL-URL:https://csuinc.org
X-WR-CALDESC:Events for Community Services Unlimited : Serving The People Body and Soul
REFRESH-INTERVAL;VALUE=DURATION:PT1H
X-Robots-Tag:noindex
X-PUBLISHED-TTL:PT1H
BEGIN:VTIMEZONE
TZID:UTC
BEGIN:STANDARD
TZOFFSETFROM:+0000
TZOFFSETTO:+0000
TZNAME:UTC
DTSTART:20190101T000000
END:STANDARD
END:VTIMEZONE
BEGIN:VEVENT
DTSTART;TZID=UTC:20231013T090000
DTEND;TZID=UTC:20231013T120000
DTSTAMP:20260425T024517
CREATED:20231012T190719Z
LAST-MODIFIED:20231012T194402Z
UID:3407-1697187600-1697198400@csuinc.org
SUMMARY:Volunteer day @ the CSU Mini Farm
DESCRIPTION:Thank you for your interest in volunteering with CSU.\nPlease read our full guidelines carefully here: https://csuinc.org/about-us/volunteer-with-us/ \n\n\nIndividual Volunteers:\nIndividuals are welcome to volunteer with an RSVP. We cannot respond to all emails or voicemail messages about volunteering; check our Events Calendar to ensure there isn’t a cancellation. RSVP by emailing volunteer@csuinc.org. \n Group Volunteers:\n\n\nGroups must make prior arrangements before coming to volunteer. We cannot accommodate groups without prior arrangement; if you wish to bring a group from your workplace\, school\, organization please send an email to volunteer@csuinc.org. We welcome groups of all sizes to come and volunteer with us as part of their community service and team building activities. Groups must make prior arrangements before coming to volunteer. If you wish to arrange a group volunteer event for your workplace\, school\, or organization please review THIS DOCUMENT and email volunteer@csuinc.org. \nPlease be aware that our response may not be immediate. We appreciate your patience. We hope to work the soil together soon. 
URL:https://csuinc.org/event/volunteer-day-the-csu-mini-farm/
LOCATION:CSU/Expo Mini Farm\, 3990 Bill Robertson Ln\, Los Angeles\, CA\, 90044\, United States
CATEGORIES:Community Services Unlimited Event,CSU/Expo Urban Mini Farm,Garden Gateway
ORGANIZER;CN="Community Services Unlimited Inc.":MAILTO:csu@csuinc.org
END:VEVENT
BEGIN:VEVENT
DTSTART;TZID=UTC:20230909T090000
DTEND;TZID=UTC:20230909T120000
DTSTAMP:20260425T024517
CREATED:20230830T195058Z
LAST-MODIFIED:20230830T195058Z
UID:3376-1694250000-1694260800@csuinc.org
SUMMARY:Garden Gateway In Person Workshop - Saturday September 9th @ Paul Robeson Community Wellness Center/VMP RSVP
DESCRIPTION:We are excited to be back with another season of Garden Gateway workshops!! \n\nWorkshop Topics: Garden Planning & Making Gazpacho\nDate: Saturday Sept 9\, 2023\nTime: 9:00 am – 12:00 Noon  \nLocation: Paul Robeson Community Wellness Center \n6569 South Vermont Ave.\, Los Angeles 90044 (at Village Market Place)\n\n\nGardening Topic – Garden Planning: We are kicking off a new season with a deep dive into planning for your garden. Whether you’re planning for your next season of planting\, or just getting started – growing in the ground or on a patio – this workshop will help you plan for a successful growing season ahead! Where is your sunlight? How do you access water? What’s your soil like? What do you like to eat? Where do you plan to grow? Participants will work together to map out their garden and then create a high-nutrient soil blend to take home. Come ready for hands-on activities.\n\nCooking Topic – Gazpacho: We will demonstrate how to make this simple cold soup loaded with summers most flavorful veggies. Participants will take home ingredients to make recipe at home.\n\n\nGGW participants must RSVP using this form to receive free materials. RSVP’ing helps us plan for the workshop. Please RSVP individually for each adult that will be attending with you.
URL:https://csuinc.org/event/garden-gateway-in-person-workshop-saturday-september-9th-paul-robeson-community-wellness-center-vmp-rsvp/
LOCATION:Paul Robeson Community Wellness Center\, 6569 S. Vermont Ave.\, Los Angeles\, CA\, 90044\, United States
CATEGORIES:Community Services Unlimited Event,CSU/Expo Urban Mini Farm,Garden Gateway,Paul Robeson Community Wellness Center,Village Market Place
ORGANIZER;CN="Community Services Unlimited Inc.":MAILTO:csu@csuinc.org
END:VEVENT
BEGIN:VEVENT
DTSTART;TZID=UTC:20230610T090000
DTEND;TZID=UTC:20230610T123000
DTSTAMP:20260425T024517
CREATED:20230419T195616Z
LAST-MODIFIED:20230419T195737Z
UID:3363-1686387600-1686400200@csuinc.org
SUMMARY:Garden Gateway In Person Workshop - Saturday JUNE 10th @ Expo Urban Mini Farm RSVP
DESCRIPTION:We are excited to be back to in-person workshops!! Mask required. Please social distance. \n\nWorkshop Topics: Natural Dying/Preserving\nDate: Saturday JUNE 10\, 2023\nTime: 9:00 am – 12:00 Noon  \nLocation: CSU/EXPO Urban mini Farm \n3990 Bill Robertson Ln. Los Angeles 90037(Next to Senior Center)\n\nGardening Topic – Natural Dying: We will practice natural dying using vegetables\, flowers and other organic materials. Participants will take home what they create. Come ready for hands on activities.\n\nCooking Topic – Preserving: We will demonstrate how to make delicious preserves to keep and store what you grow. Participants will take home ingredients to make their own.\n\n\n\nGGW participants must RSVP using this form to receive free materials. RSVP’ing helps us plan for the workshop. Please RSVP individually for each adult that will be attending with you.
URL:https://csuinc.org/event/garden-gateway-in-person-workshop-saturday-june-10th-expo-urban-mini-farm-rsvp/
LOCATION:CSU/Expo Mini Farm\, 3990 Bill Robertson Ln\, Los Angeles\, CA\, 90044\, United States
CATEGORIES:Community Services Unlimited Event,CSU/Expo Urban Mini Farm,Garden Gateway
ORGANIZER;CN="Community Services Unlimited Inc.":MAILTO:csu@csuinc.org
END:VEVENT
BEGIN:VEVENT
DTSTART;TZID=UTC:20230513T090000
DTEND;TZID=UTC:20230513T120000
DTSTAMP:20260425T024517
CREATED:20230419T195353Z
LAST-MODIFIED:20230419T200325Z
UID:3360-1683968400-1683979200@csuinc.org
SUMMARY:Garden Gateway In Person Workshop - Saturday MAY 13 @ Expo Urban Mini Farm RSVP
DESCRIPTION:We are excited to be back to in-person workshops!! Mask required. Please social distance. \nWorkshop Topics: Beat The Heat/Fruit Salad\nDate: Saturday MAY 13\, 2023\nTime: 9:00 am – 12:00 Noon Location: CSU/EXPO Urban mini Farm\n3990 Bill Robertson Ln. Los Angeles 90037(Next to Senior Center)\n\nGardening Topic – Beat The Heat: We will discuss ways to protect your plants in the summer months\, using shade cloth\, shade structures\, mulch and organic materials. We will provide some information on our Green Saving Program\, which helps LADWP customers sign up for rebate programs. Participants will get supplies to take home. Come ready for hands on activities.\n\nCooking Topic – Fruit Salad: We will demonstrate how to make a delicious fruit salad with organic seasonal fruit. Participants will take home ingredients to make their own.\n\n\n\nGGW participants must RSVP using this form to receive free materials. RSVP’ing helps us plan for the workshop. Please RSVP individually for each adult that will be attending with you.
URL:https://csuinc.org/event/garden-gateway-in-person-workshop-saturday-may-13-expo-urban-mini-farm-rsvp/
LOCATION:CSU/Expo Mini Farm\, 3990 Bill Robertson Ln\, Los Angeles\, CA\, 90044\, United States
CATEGORIES:Community Services Unlimited Event,CSU/Expo Urban Mini Farm,Garden Gateway
ORGANIZER;CN="Community Services Unlimited Inc.":MAILTO:csu@csuinc.org
END:VEVENT
BEGIN:VEVENT
DTSTART;TZID=UTC:20221210T090000
DTEND;TZID=UTC:20221210T120000
DTSTAMP:20260425T024517
CREATED:20221202T214111Z
LAST-MODIFIED:20221202T214112Z
UID:3103-1670662800-1670673600@csuinc.org
SUMMARY:Garden Gateway In Person Workshop - Saturday Dec.10th @ Expo Urban Mini Farm RSVP
DESCRIPTION:We are excited to be back to in-person workshops!! Mask required. Please social distance. \n\nWorkshop Topic: Quick Harvest Crops/Chaya Refresher \nDate: Saturday Dec 10th\, 2022\nTime: 9:00 am – 12:00 Noon \nLocation: CSU/EXPO Urban mini Farm \n3990 Bill Robertson Ln. Los Angeles 90037(Next to Senior Center)\n\nGardening Topic – Quick Harvest Crops: We will discuss quick growing crops that are ready to harvest in under 30 days. We will also practice propagation basics using Chaya. Participants will receive soil to take home. Please bring a container.\n\nCooking Topic – Chaya Refresher: We will demonstrate how to cook with Chaya by making a Chaya aqua fresca.\n\n\n\nStep 1: In order to Receive Free Materials you MUST be a registered Garden Gateway Participant (if you’ve registered before you DO NOT need to register again). Not registered? Register Here: \nhttps://forms.gle/A33Vfj81hVAckJXj7 \nStep 2: Registered GGW participants must RSVP using this form to receive free materials. RSVP’ing helps us plan for the workshop. Please RSVP individually for each adult that will be attending with you.
URL:https://csuinc.org/event/garden-gateway-in-person-workshop-saturday-dec-10th-expo-urban-mini-farm-rsvp/
LOCATION:CSU/Expo Mini Farm\, 3990 Bill Robertson Ln\, Los Angeles\, CA\, 90044\, United States
CATEGORIES:Community Services Unlimited Event,CSU/Expo Urban Mini Farm,Garden Gateway
ORGANIZER;CN="Community Services Unlimited Inc.":MAILTO:csu@csuinc.org
END:VEVENT
BEGIN:VEVENT
DTSTART;TZID=UTC:20220108T090000
DTEND;TZID=UTC:20220108T120000
DTSTAMP:20260425T024517
CREATED:20211230T173107Z
LAST-MODIFIED:20211230T173107Z
UID:2819-1641632400-1641643200@csuinc.org
SUMMARY:Garden Gateway January In-Person Workshop
DESCRIPTION:Date: Saturday\, January 8th\, 2021\nTime: 9:00 am – 12:00 Noon\nLocation: CSU/Expo Urban Mini Farm @ 3990 Bill Robertson Ln. Los Angeles 90037 (Next to the Senior Center)\n  \nGardening Topic – High Yield Quick Growing Plants: We will discuss a variety of plants that can be harvested in under 30 days. Come ready to learn through hands-on activities in the garden – all skills and abilities welcome.\n  \nCooking Topic – Cooking With Weeds: “Wild Weed Pesto” Learn to identify and use common edible plants found in the garden.\n  \nRSVP HERE
URL:https://csuinc.org/event/garden-gateway-january-in-person-workshop/
LOCATION:CSU/Expo Mini Farm\, 3990 Bill Robertson Ln\, Los Angeles\, CA\, 90044\, United States
CATEGORIES:Community Services Unlimited Event,CSU/Expo Urban Mini Farm,Garden Gateway
ORGANIZER;CN="Community Services Unlimited Inc.":MAILTO:csu@csuinc.org
END:VEVENT
BEGIN:VEVENT
DTSTART;TZID=UTC:20210522T090000
DTEND;TZID=UTC:20210522T130000
DTSTAMP:20260425T024517
CREATED:20210512T035338Z
LAST-MODIFIED:20210512T035351Z
UID:2492-1621674000-1621688400@csuinc.org
SUMMARY:Garden Gateway Workshop Supplies Pick Up Event
DESCRIPTION:Registered Garden Gateway participants will be picking up their free workshop supplies. \nWe will we be offering the following supplies that go with our free virtual gardening and nutrition workshops: \n\n\n\n\n\n\n\nBeets\nSeedlings\nFree soil testing for lead contamination\n\n\n\n\n\n\n\n[RSVP HERE] by 12:00pm on Wednesday\, May 19th to receive your free supplies!  \n\n___________________________________________ \nNew to gardening or cooking healthy meals? Interested in sharpening your gardening skills? \nJoin our Garden Gateway Program to participate in free workshop focused on food growing\, nutrition and healthy cooking skills. \nVisit this link to learn more: http://csuinc.org/programs/garden-gateway/
URL:https://csuinc.org/event/garden-gateway-workshop-supplies-pick-up-event-2/
LOCATION:Paul Robeson Community Wellness Center\, 6569 S. Vermont Ave.\, Los Angeles\, CA\, 90044\, United States
CATEGORIES:Garden Gateway
ORGANIZER;CN="Community Services Unlimited Inc.":MAILTO:csu@csuinc.org
END:VEVENT
BEGIN:VEVENT
DTSTART;TZID=UTC:20210424T090000
DTEND;TZID=UTC:20210424T120000
DTSTAMP:20260425T024517
CREATED:20210409T170312Z
LAST-MODIFIED:20210413T012527Z
UID:2458-1619254800-1619265600@csuinc.org
SUMMARY:Garden Gateway Workshop Supplies Pick Up Event
DESCRIPTION:Registered Garden Gateway participants and those RSVP’d for City Trees LA Free Tree Giveaway will be picking up their trees and free workshop supplies. \n________________________________________________ \nFor the Tree Giveaway: \nYou must reserve by Friday\, April 16 at 12:00pm. [CLICK HERE] \nRegistration Tips: \n\nWhen registering enter your address and when you see an auto-generated address suggestion in all caps click on that. Then click on “GetZipCode”. Don’t enter your zip code.\nIf you need email ggw@csuinc.org or call 213-746-1216.\n\n________________________________________________ \nFor Registered Garden Gateway Participants: \nWe will we be offering the following supplies that go with our free virtual gardening and nutrition workshops: \n\nFree Mulch \n3 Sisters Seedlings (corn\, beans\, squash)\n\n[RSVP HERE] by 12:00pm on Friday\, April 16th to receive your free supplies!  \n\n___________________________________________ \nNew to gardening or cooking healthy meals? Interested in sharpening your gardening skills? \nJoin our Garden Gateway Program to participate in free workshop focused on food growing\, nutrition and healthy cooking skills. \nVisit this link to learn more: http://csuinc.org/programs/garden-gateway/ \n\n 
URL:https://csuinc.org/event/garden-gateway-workshop-supplies-pick-up-event/
LOCATION:Paul Robeson Community Wellness Center\, 6569 S. Vermont Ave.\, Los Angeles\, CA\, 90044\, United States
CATEGORIES:Community Services Unlimited Event,Garden Gateway
ORGANIZER;CN="Community Services Unlimited Inc.":MAILTO:csu@csuinc.org
END:VEVENT
BEGIN:VEVENT
DTSTART;TZID=UTC:20210410T100000
DTEND;TZID=UTC:20210410T100000
DTSTAMP:20260425T024517
CREATED:20210409T162522Z
LAST-MODIFIED:20210409T164608Z
UID:2451-1618048800-1618048800@csuinc.org
SUMMARY:Garden Gateway: Gardening Support Q&A on Instagram Live
DESCRIPTION:Need some help with your gardening? Got a garden-related question? \nSpend your late morning with the CSU Community on Instagram Live as we exchange our tips and solutions for your gardening needs. \nThe Live Q&A on starts at 10:00am on April 10th\, 2021 and will be hosted by our Co-Executive Director\, Heather Fenney on our page: @CSUINC. \nSubmit your questions by emailing us at ggw@csuinc.org \nHope to see you there! \n___________________________________________ \nInterested in sharpening your gardening skills? New to gardening? \nJoin our Garden Gateway Program to participate in free workshop focused on food growing\, nutrition and healthy cooking skills. \nVisit this link to learn more: http://csuinc.org/programs/garden-gateway/
URL:https://csuinc.org/event/garden-gateway-gardening-support-qa-on-instagram-live/
LOCATION:Instagram Live at @csuinc\, Los Angeles\, CA\, United States
CATEGORIES:Garden Gateway
ORGANIZER;CN="Community Services Unlimited Inc.":MAILTO:csu@csuinc.org
END:VEVENT
BEGIN:VEVENT
DTSTART;VALUE=DATE:20210409
DTEND;VALUE=DATE:20210410
DTSTAMP:20260425T024517
CREATED:20210409T164706Z
LAST-MODIFIED:20210409T170516Z
UID:2455-1617926400-1618012799@csuinc.org
SUMMARY:Garden Gateway Virtual Nutrition Workshop: Sprouting For Healthier Meals
DESCRIPTION:Want to get the most nutrients out of your grains\, beans and legume? \nSprouting beans\, legumes\, and grains gives access to  a significant amount of protein as well as higher concentrations of important vitamins and vital nutrients compared to the mature food form. It is also very inexpensive to do. \nOur Virtual Nutrition Workshop will show how you can sprout your legumes\, grains and beans as well as how you can turn them into healthy dishes. \nTune into our workshop by visiting the CSU YouTube Channel on April 22nd. \nIn addition\, we will be providing a variety of easy to sprout grains for free for registered Garden Gateway participants at the Paul Robeson Community Wellness Center so. you can put your new skills to action. Learn more here.  \n___________________________________________ \nNew to gardening or cooking healthy meals? Interested in sharpening your gardening skills? \nJoin our Garden Gateway Program to participate in free workshop focused on food growing\, nutrition and healthy cooking skills. \nVisit this link to learn more: http://csuinc.org/programs/garden-gateway/
URL:https://csuinc.org/event/garden-gateway-virtual-nutrition-workshop-sprouting-for-healthier-meals/
LOCATION:CSU YouTube Channel\, Los Angeles\, CA\, United States
CATEGORIES:Garden Gateway
ORGANIZER;CN="Community Services Unlimited Inc.":MAILTO:csu@csuinc.org
END:VEVENT
BEGIN:VEVENT
DTSTART;TZID=UTC:20201118T100000
DTEND;TZID=UTC:20201118T120000
DTSTAMP:20260425T024517
CREATED:20201117T183842Z
LAST-MODIFIED:20201117T183842Z
UID:2280-1605693600-1605700800@csuinc.org
SUMMARY:Nutrition/Cooking Workshop: Versatility of Seeds!
DESCRIPTION:Tune in and learn how to cook different types of seeds in a variety of ways!
URL:https://csuinc.org/event/nutrition-cooking-workshop-versatility-of-seeds/
CATEGORIES:Category Event,Garden Gateway
END:VEVENT
BEGIN:VEVENT
DTSTART;TZID=UTC:20201114T100000
DTEND;TZID=UTC:20201114T103000
DTSTAMP:20260425T024517
CREATED:20201106T235313Z
LAST-MODIFIED:20201106T235313Z
UID:2158-1605348000-1605349800@csuinc.org
SUMMARY:Instagram Live - Gardening Q& A's
DESCRIPTION:Submit questions via email – ggw@csuinc.org and social media – @vmpcsu on Instagram!
URL:https://csuinc.org/event/instagram-live-gardening-q-as/
CATEGORIES:Category Event,Garden Gateway
END:VEVENT
BEGIN:VEVENT
DTSTART;TZID=UTC:20201111T100000
DTEND;TZID=UTC:20201111T120000
DTSTAMP:20260425T024517
CREATED:20201106T225456Z
LAST-MODIFIED:20201106T234146Z
UID:2155-1605088800-1605096000@csuinc.org
SUMMARY:Gardening Video: Seed Saving
DESCRIPTION:Tune in and learn the basics to saving seeds. Build your self sufficiency and help maintain plant diversity!
URL:https://csuinc.org/event/gardening-video-seed-saving/
CATEGORIES:Category Event,Garden Gateway
END:VEVENT
END:VCALENDAR