BEGIN:VCALENDAR
VERSION:2.0
PRODID:-//Community Services Unlimited : Serving The People Body and Soul - ECPv6.15.20//NONSGML v1.0//EN
CALSCALE:GREGORIAN
METHOD:PUBLISH
X-ORIGINAL-URL:https://csuinc.org
X-WR-CALDESC:Events for Community Services Unlimited : Serving The People Body and Soul
REFRESH-INTERVAL;VALUE=DURATION:PT1H
X-Robots-Tag:noindex
X-PUBLISHED-TTL:PT1H
BEGIN:VTIMEZONE
TZID:UTC
BEGIN:STANDARD
TZOFFSETFROM:+0000
TZOFFSETTO:+0000
TZNAME:UTC
DTSTART:20210101T000000
END:STANDARD
END:VTIMEZONE
BEGIN:VEVENT
DTSTART;TZID=UTC:20251018T100000
DTEND;TZID=UTC:20251018T110000
DTSTAMP:20260424T001038
CREATED:20251018T190030Z
LAST-MODIFIED:20251018T190030Z
UID:3649-1760781600-1760785200@csuinc.org
SUMMARY:Yoga Saturdays
DESCRIPTION:Yoga for Mind & Body Connection Saturdays \nTIME: 10am-11am every Saturday \nLOCATION: Paul Robeson Center @ 6569 S. Vermont Ave. Los Angeles\, CA 90044 \n  \nIn these times of incredible stress & strain\, join us as we work and build the connections between them. \nDon’t have a mat? No problem\, we got you. No prior experience needed. \nFree\, donations welcomed! \nCheck out our website and/or social media for cancellations or changes in schedule \nweb: csuinc.org \nig: @csuinc \nQuestions? Email: csu@csuinc.org
URL:https://csuinc.org/event/yoga-saturdays/
LOCATION:Paul Robeson Community Wellness Center\, 6569 S. Vermont Ave.\, Los Angeles\, CA\, 90044\, United States
CATEGORIES:Paul Robeson Community Wellness Center
ORGANIZER;CN="Community Services Unlimited Inc.":MAILTO:csu@csuinc.org
END:VEVENT
BEGIN:VEVENT
DTSTART;TZID=UTC:20231118T130000
DTEND;TZID=UTC:20231118T150000
DTSTAMP:20260424T001038
CREATED:20231115T193936Z
LAST-MODIFIED:20231115T193936Z
UID:3463-1700312400-1700319600@csuinc.org
SUMMARY:Genocide in Palestine - Panel
DESCRIPTION:  \nRana Sharif – Scholar\, educator\, and activist. Member of the Palestinian Feminist Collective (PFC)\, host of KPFK’s SWANA Region Radio \nEstee Chandler – Found and member of the LA Chapter Jewish Voices for Peace (JVP). Chair of the Board of JVP’s sister organization JVP Action. Co-host KPFK’s Middle East in Focus. \nRobin D.G Kelley – Prof. of History at UCLA. He has written about the Ferguson/Gaza convergence that catalyzed the current wave of black-Palestinian solidarity. \nRSVP: \nhttps://docs.google.com/forms/d/e/1FAIpQLSdOaal3fEK1XSYkh7ELTqc4hOGM9z_BEIQL71dpcGJs_RE_4g/viewform
URL:https://csuinc.org/event/genocide-in-palestine-panel/
LOCATION:Paul Robeson Community Wellness Center\, 6569 S. Vermont Ave.\, Los Angeles\, CA\, 90044\, United States
CATEGORIES:Paul Robeson Community Wellness Center,Village Market Place
END:VEVENT
BEGIN:VEVENT
DTSTART;TZID=UTC:20231111T090000
DTEND;TZID=UTC:20231111T120000
DTSTAMP:20260424T001038
CREATED:20231017T034315Z
LAST-MODIFIED:20231025T212350Z
UID:3457-1699693200-1699704000@csuinc.org
SUMMARY:South Central Sustainable Seafood Fest
DESCRIPTION:Join us on Saturday\, November 11th for a community celebration of local seafood at the South Central Sustainable Seafood Fest. We’re excited to be bringing local farmers and chefs\, fresh\, local seafood that you’ll get to eat\, and many fun-filled family activities to the Village Market Place! \nPlease fill out this form to confirm that you will be attending the South Central Sustainable Seafood Fest. \n¡Únase a nosotros el sábado 11 de noviembre de 2023 para una celebración comunitaria de mariscos locales en el Festival de Mariscos Sostenibles! ¡Estamos emocionados de traer a agricultores y chefs locales\, mariscos frescos y locales que podrás disfrutar\, y muchas actividades divertidas para toda la familia en Village Market Place! \nRSVP Here: \nhttps://docs.google.com/forms/d/e/1FAIpQLScHdaW5_vF0WD_JHHMTXKP19mG-dbJV2CZxDtdewJynzeg5xg/viewform
URL:https://csuinc.org/event/south-central-sustainable-seafood-fest/
LOCATION:Paul Robeson Community Wellness Center\, 6569 S. Vermont Ave.\, Los Angeles\, CA\, 90044\, United States
CATEGORIES:Community Services Unlimited Event,Garden Gateway,Paul Robeson Community Wellness Center,Village Market Place
ORGANIZER;CN="Community Services Unlimited Inc.":MAILTO:csu@csuinc.org
END:VEVENT
BEGIN:VEVENT
DTSTART;TZID=UTC:20231104T090000
DTEND;TZID=UTC:20231104T120000
DTSTAMP:20260424T001038
CREATED:20231011T201628Z
LAST-MODIFIED:20231011T201647Z
UID:3381-1699088400-1699099200@csuinc.org
SUMMARY:Volunteer Day @ PRC
DESCRIPTION:Volunteer day at PRC in preparation for our Seafood Festival on Nov. 11\, 2023! \nWe’ll work on clearing out some garden beds\, preparing outreach materials\,cleaning out our veggie bus\, and more. Hope to see you there!
URL:https://csuinc.org/event/volunteer-day-prc/
LOCATION:Paul Robeson Community Wellness Center\, 6569 S. Vermont Ave.\, Los Angeles\, CA\, 90044\, United States
CATEGORIES:Community Services Unlimited Event,Paul Robeson Community Wellness Center
ORGANIZER;CN="Community Services Unlimited Inc.":MAILTO:csu@csuinc.org
END:VEVENT
BEGIN:VEVENT
DTSTART;TZID=UTC:20230909T090000
DTEND;TZID=UTC:20230909T120000
DTSTAMP:20260424T001038
CREATED:20230830T195058Z
LAST-MODIFIED:20230830T195058Z
UID:3376-1694250000-1694260800@csuinc.org
SUMMARY:Garden Gateway In Person Workshop - Saturday September 9th @ Paul Robeson Community Wellness Center/VMP RSVP
DESCRIPTION:We are excited to be back with another season of Garden Gateway workshops!! \n\nWorkshop Topics: Garden Planning & Making Gazpacho\nDate: Saturday Sept 9\, 2023\nTime: 9:00 am – 12:00 Noon  \nLocation: Paul Robeson Community Wellness Center \n6569 South Vermont Ave.\, Los Angeles 90044 (at Village Market Place)\n\n\nGardening Topic – Garden Planning: We are kicking off a new season with a deep dive into planning for your garden. Whether you’re planning for your next season of planting\, or just getting started – growing in the ground or on a patio – this workshop will help you plan for a successful growing season ahead! Where is your sunlight? How do you access water? What’s your soil like? What do you like to eat? Where do you plan to grow? Participants will work together to map out their garden and then create a high-nutrient soil blend to take home. Come ready for hands-on activities.\n\nCooking Topic – Gazpacho: We will demonstrate how to make this simple cold soup loaded with summers most flavorful veggies. Participants will take home ingredients to make recipe at home.\n\n\nGGW participants must RSVP using this form to receive free materials. RSVP’ing helps us plan for the workshop. Please RSVP individually for each adult that will be attending with you.
URL:https://csuinc.org/event/garden-gateway-in-person-workshop-saturday-september-9th-paul-robeson-community-wellness-center-vmp-rsvp/
LOCATION:Paul Robeson Community Wellness Center\, 6569 S. Vermont Ave.\, Los Angeles\, CA\, 90044\, United States
CATEGORIES:Community Services Unlimited Event,CSU/Expo Urban Mini Farm,Garden Gateway,Paul Robeson Community Wellness Center,Village Market Place
ORGANIZER;CN="Community Services Unlimited Inc.":MAILTO:csu@csuinc.org
END:VEVENT
BEGIN:VEVENT
DTSTART;TZID=UTC:20220819T150000
DTEND;TZID=UTC:20220819T180000
DTSTAMP:20260424T001038
CREATED:20220805T192601Z
LAST-MODIFIED:20220805T192601Z
UID:3044-1660921200-1660932000@csuinc.org
SUMMARY:First Week Treat (Ice Cream Social)
DESCRIPTION:Students and parents can celebrate their first week in school with free ice cream sundaes while learning about CSU and CORE Resources.
URL:https://csuinc.org/event/first-week-treat-ice-cream-social/
LOCATION:Paul Robeson Community Wellness Center\, 6569 S. Vermont Ave.\, Los Angeles\, CA\, 90044\, United States
CATEGORIES:Paul Robeson Community Wellness Center,Village Market Place
ORGANIZER;CN="Community Services Unlimited Inc.":MAILTO:csu@csuinc.org
END:VEVENT
BEGIN:VEVENT
DTSTART;TZID=UTC:20220815T130000
DTEND;TZID=UTC:20220819T180000
DTSTAMP:20260424T001038
CREATED:20220805T192326Z
LAST-MODIFIED:20220805T192326Z
UID:3042-1660568400-1660932000@csuinc.org
SUMMARY:Healthy Students Week
DESCRIPTION:Student can come get an After School Snack Special for free the first week of school. Inside the snack bag will be a drink\, a snack\, a fruit and information about CSU and CORE resources.
URL:https://csuinc.org/event/healthy-students-week/
LOCATION:Paul Robeson Community Wellness Center\, 6569 S. Vermont Ave.\, Los Angeles\, CA\, 90044\, United States
CATEGORIES:Paul Robeson Community Wellness Center,Village Market Place
ORGANIZER;CN="Community Services Unlimited Inc.":MAILTO:csu@csuinc.org
END:VEVENT
BEGIN:VEVENT
DTSTART;TZID=UTC:20220813T120000
DTEND;TZID=UTC:20220813T150000
DTSTAMP:20260424T001038
CREATED:20220805T190740Z
LAST-MODIFIED:20220805T190740Z
UID:3038-1660392000-1660402800@csuinc.org
SUMMARY:Back To School: Get Fresh Day
DESCRIPTION:Parents can receive free produce bags\, learn about CSU’s Calfresh Assistance Program\, pick up COVID tests while their children get free haircuts.
URL:https://csuinc.org/event/back-to-school-get-fresh-day/
LOCATION:Paul Robeson Community Wellness Center\, 6569 S. Vermont Ave.\, Los Angeles\, CA\, 90044\, United States
CATEGORIES:Paul Robeson Community Wellness Center
ORGANIZER;CN="Community Services Unlimited Inc.":MAILTO:csu@csuinc.org
END:VEVENT
BEGIN:VEVENT
DTSTART;TZID=UTC:20220806T100000
DTEND;TZID=UTC:20220806T120000
DTSTAMP:20260424T001038
CREATED:20220805T185031Z
LAST-MODIFIED:20220805T185149Z
UID:3035-1659780000-1659787200@csuinc.org
SUMMARY:South Central Harvesters & Growers Info Session
DESCRIPTION:This meeting will be an opportunity to learn how you can sell your produce and tree fruit to the Village Market Place\, to meet other local urban growers and harvesters\, and share how we can support you. We will also open our CSU Seed Library and offer signing up for our SCGHN Tool Lending Library.
URL:https://csuinc.org/event/south-central-harvesters-growers-info-session/
LOCATION:Paul Robeson Community Wellness Center\, 6569 S. Vermont Ave.\, Los Angeles\, CA\, 90044\, United States
CATEGORIES:Paul Robeson Community Wellness Center
ORGANIZER;CN="Community Services Unlimited Inc.":MAILTO:csu@csuinc.org
END:VEVENT
BEGIN:VEVENT
DTSTART;TZID=UTC:20220402T090000
DTEND;TZID=UTC:20220402T120000
DTSTAMP:20260424T001038
CREATED:20220329T203211Z
LAST-MODIFIED:20220329T205502Z
UID:2883-1648890000-1648900800@csuinc.org
SUMMARY:CSU Veggie Bus Clean Up Day
DESCRIPTION:
URL:https://csuinc.org/event/csu-veggie-bus-clean-up-day/
LOCATION:Paul Robeson Community Wellness Center\, 6569 S. Vermont Ave.\, Los Angeles\, CA\, 90044\, United States
CATEGORIES:Paul Robeson Community Wellness Center
ORGANIZER;CN="Community Services Unlimited Inc.":MAILTO:csu@csuinc.org
END:VEVENT
END:VCALENDAR