BEGIN:VCALENDAR
VERSION:2.0
PRODID:-//Community Services Unlimited : Serving The People Body and Soul - ECPv6.15.20//NONSGML v1.0//EN
CALSCALE:GREGORIAN
METHOD:PUBLISH
X-WR-CALNAME:Community Services Unlimited : Serving The People Body and Soul
X-ORIGINAL-URL:https://csuinc.org
X-WR-CALDESC:Events for Community Services Unlimited : Serving The People Body and Soul
REFRESH-INTERVAL;VALUE=DURATION:PT1H
X-Robots-Tag:noindex
X-PUBLISHED-TTL:PT1H
BEGIN:VTIMEZONE
TZID:UTC
BEGIN:STANDARD
TZOFFSETFROM:+0000
TZOFFSETTO:+0000
TZNAME:UTC
DTSTART:20240101T000000
END:STANDARD
END:VTIMEZONE
BEGIN:VEVENT
DTSTART;TZID=UTC:20251101T100000
DTEND;TZID=UTC:20251101T110000
DTSTAMP:20260423T231840
CREATED:20251022T192744Z
LAST-MODIFIED:20251022T192744Z
UID:3667-1761991200-1761994800@csuinc.org
SUMMARY:Yoga Saturdays
DESCRIPTION:Yoga for Mind & Body Connection Saturdays \nTIME: 10am-11am every Saturday \nLOCATION: Paul Robeson Center @ 6569 S. Vermont Ave. Los Angeles\, CA 90044 \n  \nIn these times of incredible stress & strain\, join us as we work and build the connections between them. \nDon’t have a mat? No problem\, we got you. No prior experience needed. \nFree\, donations welcomed! \nCheck out our website and/or social media for cancellations or changes in schedule \nweb: www.csuinc.org \nig: @csuinc \nQuestions? Email: csu@csuinc.org
URL:https://csuinc.org/event/yoga-saturdays-3/
LOCATION:CA
END:VEVENT
BEGIN:VEVENT
DTSTART;TZID=UTC:20251108T100000
DTEND;TZID=UTC:20251108T110000
DTSTAMP:20260423T231840
CREATED:20251022T192840Z
LAST-MODIFIED:20251022T192840Z
UID:3669-1762596000-1762599600@csuinc.org
SUMMARY:Yoga Saturdays
DESCRIPTION:Yoga for Mind & Body Connection Saturdays \nTIME: 10am-11am every Saturday \nLOCATION: Paul Robeson Center @ 6569 S. Vermont Ave. Los Angeles\, CA 90044 \n  \nIn these times of incredible stress & strain\, join us as we work and build the connections between them. \nDon’t have a mat? No problem\, we got you. No prior experience needed. \nFree\, donations welcomed! \nCheck out our website and/or social media for cancellations or changes in schedule \nweb: www.csuinc.org \nig: @csuinc \nQuestions? Email: csu@csuinc.org
URL:https://csuinc.org/event/yoga-saturdays-4/
LOCATION:CA
END:VEVENT
BEGIN:VEVENT
DTSTART;TZID=UTC:20251115T100000
DTEND;TZID=UTC:20251115T110000
DTSTAMP:20260423T231840
CREATED:20251022T192938Z
LAST-MODIFIED:20251022T192938Z
UID:3671-1763200800-1763204400@csuinc.org
SUMMARY:Yoga Saturdays
DESCRIPTION:Yoga for Mind & Body Connection Saturdays \nTIME: 10am-11am every Saturday \nLOCATION: Paul Robeson Center @ 6569 S. Vermont Ave. Los Angeles\, CA 90044 \n  \nIn these times of incredible stress & strain\, join us as we work and build the connections between them. \nDon’t have a mat? No problem\, we got you. No prior experience needed. \nFree\, donations welcomed! \nCheck out our website and/or social media for cancellations or changes in schedule \nweb: www.csuinc.org \nig: @csuinc \nQuestions? Email: csu@csuinc.org
URL:https://csuinc.org/event/yoga-saturdays-5/
LOCATION:CA
END:VEVENT
BEGIN:VEVENT
DTSTART;TZID=UTC:20251122T100000
DTEND;TZID=UTC:20251122T110000
DTSTAMP:20260423T231840
CREATED:20251022T193020Z
LAST-MODIFIED:20251022T193020Z
UID:3673-1763805600-1763809200@csuinc.org
SUMMARY:Yoga Saturdays
DESCRIPTION:Yoga for Mind & Body Connection Saturdays \nTIME: 10am-11am every Saturday \nLOCATION: Paul Robeson Center @ 6569 S. Vermont Ave. Los Angeles\, CA 90044 \n  \nIn these times of incredible stress & strain\, join us as we work and build the connections between them. \nDon’t have a mat? No problem\, we got you. No prior experience needed. \nFree\, donations welcomed! \nCheck out our website and/or social media for cancellations or changes in schedule \nweb: www.csuinc.org \nig: @csuinc \nQuestions? Email: csu@csuinc.org
URL:https://csuinc.org/event/yoga-saturdays-6/
LOCATION:CA
END:VEVENT
BEGIN:VEVENT
DTSTART;TZID=UTC:20251129T100000
DTEND;TZID=UTC:20251129T110000
DTSTAMP:20260423T231840
CREATED:20251022T193104Z
LAST-MODIFIED:20251022T193104Z
UID:3675-1764410400-1764414000@csuinc.org
SUMMARY:Yoga Saturdays
DESCRIPTION:Yoga for Mind & Body Connection Saturdays \nTIME: 10am-11am every Saturday \nLOCATION: Paul Robeson Center @ 6569 S. Vermont Ave. Los Angeles\, CA 90044 \n  \nIn these times of incredible stress & strain\, join us as we work and build the connections between them. \nDon’t have a mat? No problem\, we got you. No prior experience needed. \nFree\, donations welcomed! \nCheck out our website and/or social media for cancellations or changes in schedule \nweb: www.csuinc.org \nig: @csuinc \nQuestions? Email: csu@csuinc.org
URL:https://csuinc.org/event/yoga-saturdays-7/
LOCATION:CA
END:VEVENT
BEGIN:VEVENT
DTSTART;TZID=UTC:20251206T090000
DTEND;TZID=UTC:20251206T120000
DTSTAMP:20260423T231840
CREATED:20251201T194423Z
LAST-MODIFIED:20251201T195020Z
UID:3700-1765011600-1765022400@csuinc.org
SUMMARY:Volunteer Day @ the CSU/EXPO Mini Farm
DESCRIPTION:Thank you for your interest in volunteering with CSU.\nPlease read our guidelines carefully here: https://csuinc.org/about-us/volunteer-with-us/ \n\n\nIndividual Volunteers:\nIndividuals are welcome to volunteer with an RSVP. We cannot respond to all emails or voicemail messages about volunteering; check our Events Calendar to ensure there isn’t a cancellation. RSVP by emailing volunteer@csuinc.org. \n\nGroup Volunteers:\n\n\nGroups must make prior arrangements before coming to volunteer. We cannot accommodate groups without prior arrangement; if you wish to bring a group from your workplace\, school\, organization please send an email to volunteer@csuinc.org. We welcome groups of all sizes to come and volunteer with us as part of their community service and team building activities. Groups must make prior arrangements before coming to volunteer. If you wish to arrange a group volunteer event for your workplace\, school\, or organization please review THIS DOCUMENT and email volunteer@csuinc.org. \nPlease be aware that our response may not be immediate. We appreciate your patience. We hope to work the soil together soon. 
URL:https://csuinc.org/event/volunteer-day-the-csu-expo-mini-farm/
LOCATION:CSU/Expo Mini Farm\, 3990 Bill Robertson Ln\, Los Angeles\, CA\, 90044\, United States
CATEGORIES:Community Services Unlimited Event,CSU/Expo Urban Mini Farm,Garden Gateway
ORGANIZER;CN="Community Services Unlimited Inc.":MAILTO:csu@csuinc.org
END:VEVENT
BEGIN:VEVENT
DTSTART;TZID=UTC:20251206T100000
DTEND;TZID=UTC:20251206T110000
DTSTAMP:20260423T231840
CREATED:20251022T193158Z
LAST-MODIFIED:20251022T193158Z
UID:3677-1765015200-1765018800@csuinc.org
SUMMARY:Yoga Saturdays
DESCRIPTION:Yoga for Mind & Body Connection Saturdays \nTIME: 10am-11am every Saturday \nLOCATION: Paul Robeson Center @ 6569 S. Vermont Ave. Los Angeles\, CA 90044 \n  \nIn these times of incredible stress & strain\, join us as we work and build the connections between them. \nDon’t have a mat? No problem\, we got you. No prior experience needed. \nFree\, donations welcomed! \nCheck out our website and/or social media for cancellations or changes in schedule \nweb: www.csuinc.org \nig: @csuinc \nQuestions? Email: csu@csuinc.org
URL:https://csuinc.org/event/yoga-saturdays-8/
LOCATION:CA
END:VEVENT
BEGIN:VEVENT
DTSTART;TZID=UTC:20251213T090000
DTEND;TZID=UTC:20251213T120000
DTSTAMP:20260423T231840
CREATED:20251201T181844Z
LAST-MODIFIED:20251201T181928Z
UID:3688-1765616400-1765627200@csuinc.org
SUMMARY:Garden Gateway Workshop: Quick Harvest Crops & Microgreens: Growing Food in All Spaces
DESCRIPTION:The Garden Gateway Workshops continue with our final gathering for 2025 on \nSaturday\, December 13\, 2025\, \n9:00 AM to 12:00 PM \nLocation: CSU/Expo Mini Urban Farm \n3990 Bill Robertson Lane\, Los Angeles\, CA. \nDecember’s session focuses on quick-growing crops and practical winter-season food knowledge to support continued gardening through colder months and limited spaces. This workshop closes out the year by strengthening essential skills that promote resilience\, seasonal eating\, and community connection. \nGardening Focus – Quick Harvest Crops & Microgreens: Growing Food in All Spaces \nThis month’s gardening lesson highlights fast-growing crops that thrive in cool weather\, including radishes\, mustard greens\, and mizuna. Participants will learn how to maximize small spaces through dense planting\, succession sowing\, and container-based growing. The session also introduces microgreens—nutrient-dense\, easy-to-grow crops that can be harvested within days and grown indoors year-round. Instruction will cover soil preparation\, watering practices\, harvest timing\, and choosing varieties that succeed in winter conditions. Registered participants will receive seeds\, starter plants\, soil\, and mulch to apply these techniques at home immediately. \nNutrition Focus – Radish Top Soup: Using the Whole Plant for Seasonal Nourishment \nThe December cooking demonstration features Radish Top Soup\, a dish that highlights the value of using the entire plant—roots and greens—to reduce waste and increase nutritional impact. Participants will learn how to transform radish tops into a flavorful\, warming soup suitable for winter weather. The session will cover preparation methods\, flavor balancing\, and variations that incorporate seasonal produce and herbs. The workshop emphasizes whole-plant cooking as a pathway to food security\, cost savings\, and deeper understanding of seasonal eating. \nWorkshop Details \n\n\nDate & Time: Saturday\, December 13\, 2025 | 9:00 AM – 12:00 PM \n\n\nLocation: CSU/Expo Mini Urban Farm\, 3990 Bill Robertson Ln\, Los Angeles\, CA \n\n\nFormat: In-person only \n\n\nRegistration: \n\n\nIn order to help us better prepare for accurate numbers of attendees we are asking for a small deposit ($7) to register for the workshop HERE ON THIS LINK. Once you attend\, you will receive a voucher to spend the deposit at the Village Market Place. If the deposit is prohibitive\, you may request a waiver by emailing csu@csuinc.org. Please note: waiver recipients who are no-shows/no-call the day of the workshop will not be eligible to receive a waiver for future workshops. \n\n\nVouchers are redeemable at any time before the final workshop in June 2026. \n\n\nThey can be used separately\, or together. \n\n\nVouchers cannot be replaced.
URL:https://csuinc.org/event/garden-gateway-workshop-quick-harvest-crops-microgreens-growing-food-in-all-spaces/
LOCATION:CSU/Expo Mini Farm\, 3990 Bill Robertson Ln\, Los Angeles\, CA\, 90044\, United States
CATEGORIES:Community Services Unlimited Event,CSU/Expo Urban Mini Farm,Garden Gateway
ORGANIZER;CN="Community Services Unlimited Inc.":MAILTO:csu@csuinc.org
END:VEVENT
BEGIN:VEVENT
DTSTART;TZID=UTC:20251213T100000
DTEND;TZID=UTC:20251213T110000
DTSTAMP:20260423T231840
CREATED:20251022T193240Z
LAST-MODIFIED:20251022T193240Z
UID:3679-1765620000-1765623600@csuinc.org
SUMMARY:Yoga Saturdays
DESCRIPTION:Yoga for Mind & Body Connection Saturdays \nTIME: 10am-11am every Saturday \nLOCATION: Paul Robeson Center @ 6569 S. Vermont Ave. Los Angeles\, CA 90044 \n  \nIn these times of incredible stress & strain\, join us as we work and build the connections between them. \nDon’t have a mat? No problem\, we got you. No prior experience needed. \nFree\, donations welcomed! \nCheck out our website and/or social media for cancellations or changes in schedule \nweb: www.csuinc.org \nig: @csuinc \nQuestions? Email: csu@csuinc.org
URL:https://csuinc.org/event/yoga-saturdays-9/
LOCATION:CA
END:VEVENT
BEGIN:VEVENT
DTSTART;TZID=UTC:20251220T090000
DTEND;TZID=UTC:20251220T120000
DTSTAMP:20260423T231840
CREATED:20251201T195543Z
LAST-MODIFIED:20251201T195543Z
UID:3703-1766221200-1766232000@csuinc.org
SUMMARY:Volunteer Day @ the CSU/EXPO Mini Farm
DESCRIPTION:Thank you for your interest in volunteering with CSU.\nPlease read our guidelines carefully here: https://csuinc.org/about-us/volunteer-with-us/ \n\n\nIndividual Volunteers:\nIndividuals are welcome to volunteer with an RSVP. We cannot respond to all emails or voicemail messages about volunteering; check our Events Calendar to ensure there isn’t a cancellation. RSVP by emailing volunteer@csuinc.org. \n\nGroup Volunteers:\n\n\nGroups must make prior arrangements before coming to volunteer. We cannot accommodate groups without prior arrangement; if you wish to bring a group from your workplace\, school\, organization please send an email to volunteer@csuinc.org. We welcome groups of all sizes to come and volunteer with us as part of their community service and team building activities. Groups must make prior arrangements before coming to volunteer. If you wish to arrange a group volunteer event for your workplace\, school\, or organization please review THIS DOCUMENT and email volunteer@csuinc.org. \nPlease be aware that our response may not be immediate. We appreciate your patience. We hope to work the soil together soon. 
URL:https://csuinc.org/event/volunteer-day-the-csu-expo-mini-farm-2/
LOCATION:CA
CATEGORIES:Community Services Unlimited Event,CSU/Expo Urban Mini Farm,Garden Gateway
ORGANIZER;CN="Community Services Unlimited Inc.":MAILTO:csu@csuinc.org
END:VEVENT
BEGIN:VEVENT
DTSTART;TZID=UTC:20251220T100000
DTEND;TZID=UTC:20251220T110000
DTSTAMP:20260423T231840
CREATED:20251022T193336Z
LAST-MODIFIED:20251022T193336Z
UID:3681-1766224800-1766228400@csuinc.org
SUMMARY:Yoga Saturdays
DESCRIPTION:Yoga for Mind & Body Connection Saturdays \nTIME: 10am-11am every Saturday \nLOCATION: Paul Robeson Center @ 6569 S. Vermont Ave. Los Angeles\, CA 90044 \n  \nIn these times of incredible stress & strain\, join us as we work and build the connections between them. \nDon’t have a mat? No problem\, we got you. No prior experience needed. \nFree\, donations welcomed! \nCheck out our website and/or social media for cancellations or changes in schedule \nweb: www.csuinc.org \nig: @csuinc \nQuestions? Email: csu@csuinc.org
URL:https://csuinc.org/event/yoga-saturdays-10/
LOCATION:CA
END:VEVENT
BEGIN:VEVENT
DTSTART;TZID=UTC:20251227T100000
DTEND;TZID=UTC:20251227T110000
DTSTAMP:20260423T231840
CREATED:20251022T193415Z
LAST-MODIFIED:20251022T193415Z
UID:3683-1766829600-1766833200@csuinc.org
SUMMARY:Yoga Saturdays
DESCRIPTION:Yoga for Mind & Body Connection Saturdays \nTIME: 10am-11am every Saturday \nLOCATION: Paul Robeson Center @ 6569 S. Vermont Ave. Los Angeles\, CA 90044 \n  \nIn these times of incredible stress & strain\, join us as we work and build the connections between them. \nDon’t have a mat? No problem\, we got you. No prior experience needed. \nFree\, donations welcomed! \nCheck out our website and/or social media for cancellations or changes in schedule \nweb: www.csuinc.org \nig: @csuinc \nQuestions? Email: csu@csuinc.org
URL:https://csuinc.org/event/yoga-saturdays-11/
LOCATION:CA
END:VEVENT
BEGIN:VEVENT
DTSTART;TZID=UTC:20260103T090000
DTEND;TZID=UTC:20260103T120000
DTSTAMP:20260423T231840
CREATED:20251201T202823Z
LAST-MODIFIED:20251201T202908Z
UID:3710-1767430800-1767441600@csuinc.org
SUMMARY:Volunteering @ CSU/Expo Mini Farm
DESCRIPTION:Thank you for your interest in volunteering with CSU.\n\nPlease read our guidelines carefully here: https://csuinc.org/about-us/volunteer-with-us/ \n\n\nIndividual Volunteers:\nIndividuals are welcome to volunteer with an RSVP. We cannot respond to all emails or voicemail messages about volunteering; check our Events Calendar to ensure there isn’t a cancellation. RSVP by emailing volunteer@csuinc.org. \n\nGroup Volunteers:\n\n\nGroups must make prior arrangements before coming to volunteer. We cannot accommodate groups without prior arrangement; if you wish to bring a group from your workplace\, school\, organization please send an email to volunteer@csuinc.org. We welcome groups of all sizes to come and volunteer with us as part of their community service and team building activities. Groups must make prior arrangements before coming to volunteer. If you wish to arrange a group volunteer event for your workplace\, school\, or organization please review THIS DOCUMENT and email volunteer@csuinc.org. \nPlease be aware that our response may not be immediate. We appreciate your patience. We hope to work the soil together soon. 
URL:https://csuinc.org/event/volunteering-csu-expo-mini-farm/
LOCATION:CA
CATEGORIES:Community Services Unlimited Event,CSU/Expo Urban Mini Farm,Garden Gateway
ORGANIZER;CN="Community Services Unlimited Inc.":MAILTO:csu@csuinc.org
END:VEVENT
BEGIN:VEVENT
DTSTART;TZID=UTC:20260110T090000
DTEND;TZID=UTC:20260110T120000
DTSTAMP:20260423T231840
CREATED:20251201T203635Z
LAST-MODIFIED:20251215T183053Z
UID:3716-1768035600-1768046400@csuinc.org
SUMMARY:Garden Gateway: Growing in Raised Beds and Containers
DESCRIPTION:January 10th\, 9 AM–12 PM\nat the CSU/Expo Mini Urban Farm\, 3990 Bill Robertson Ln\, Los Angeles\, CA.\nLink to register: HERE\n\n\nGardening focus: Growing in Raised Beds and Containers using wood\, screws\, and raised bed materials. This month’s gardening lesson centers on building and growing in raised beds and containers\, with an emphasis on flexibility for different home and community settings. Participants will learn how to assemble raised beds\, understand soil depth and drainage needs\, and choose crops that do well in these systems. The session will cover how raised beds and containers support better soil structure\, water management\, and accessibility for gardeners of different ages and abilities.\nRegistered participants will receive wood\, screws\, and raised bed materials\, gaining hands-on experience in constructing or reinforcing growing spaces that can be adapted to yards\, patios\, or small urban plots.\n\nCooking focus: Greens Kimchi with fresh greens and a jar to start your own ferment. The nutritional topic\, Greens Kimchi\, a fermented dish that uses leafy greens to create a tangy\, nutrient-dense food that can be stored and eaten over time. Participants will learn the basics of fermentation\, including salt ratios\, packing\, timing\, and safe storage. The session will highlight how fermentation supports gut health\, reduces food waste\, and turns surplus or seasonal greens into a long-lasting pantry staple.\n\nRegistered participants will receive fresh greens and a jar to begin their own batch of Greens Kimchi during the workshop and take it home.\n\nRSVP and Deposit Update\nIn order to help us better prepare for accurate numbers of attendees we are asking for a small deposit ($7) to register for the workshop. Once you attend\, you will receive a voucher to spend the deposit at the Village Market Place. If the deposit is prohibitive\, you may request a waiver by emailing csu@csuinc.org.\n\nPlease note: waiver recipients who are no-shows the day of the workshop will not be eligible to receive a waiver for future workshops. Vouchers are redeemable at any time before the final workshop in June 2026. They can be used separately\, or together\, and vouchers cannot be replaced.
URL:https://csuinc.org/event/volunteering-csu-expo-urban-mini-farm/
LOCATION:CSU/Expo Mini Farm\, 3990 Bill Robertson Ln\, Los Angeles\, CA\, 90044\, United States
CATEGORIES:Community Services Unlimited Event,CSU/Expo Urban Mini Farm,Garden Gateway
ORGANIZER;CN="Community Services Unlimited Inc.":MAILTO:csu@csuinc.org
END:VEVENT
BEGIN:VEVENT
DTSTART;TZID=UTC:20260117T090000
DTEND;TZID=UTC:20260117T120000
DTSTAMP:20260423T231840
CREATED:20251201T204623Z
LAST-MODIFIED:20260115T195805Z
UID:3721-1768640400-1768651200@csuinc.org
SUMMARY:Volunteering @ CSU/Expo Urban Mini Farm
DESCRIPTION:Thank you for your interest in volunteering with CSU.\nPlease read our guidelines carefully here: https://csuinc.org/about-us/volunteer-with-us/ \n\n\nIndividual Volunteers:\nIndividuals are welcome to volunteer with an RSVP. We cannot respond to all emails or voicemail messages about volunteering; check our Events Calendar to ensure there isn’t a cancellation. \n\nGroup Volunteers:\n\n\nGroups must make prior arrangements before coming to volunteer. We cannot accommodate groups without prior arrangement; if you wish to bring a group from your workplace\, school\, organization please send an email to volunteer@csuinc.org. We welcome groups of all sizes to come and volunteer with us as part of their community service and team building activities. Groups must make prior arrangements before coming to volunteer. If you wish to arrange a group volunteer event for your workplace\, school\, or organization please review THIS DOCUMENT and email volunteer@csuinc.org. \n\nRSVP HERE\n\nPlease be aware that our response may not be immediate. We appreciate your patience. We hope to work the soil together soon. 
URL:https://csuinc.org/event/volunteering-csu-expo-urban-mini-farm-2/
LOCATION:CSU/Expo Mini Farm\, 3990 Bill Robertson Ln\, Los Angeles\, CA\, 90044\, United States
ORGANIZER;CN="Community Services Unlimited Inc.":MAILTO:csu@csuinc.org
END:VEVENT
BEGIN:VEVENT
DTSTART;TZID=UTC:20260214T090000
DTEND;TZID=UTC:20260214T120000
DTSTAMP:20260423T231840
CREATED:20251201T192513Z
LAST-MODIFIED:20260126T215742Z
UID:3693-1771059600-1771070400@csuinc.org
SUMMARY:Garden Gateway Workshop: Winecap Mushrooms & Native Plants
DESCRIPTION:The Garden Gateway Workshops continue with our next session on \nSaturday\, February 14\, 2026\, \nfrom 9:00 AM to 12:00 PM \nat the CSU/Expo Mini Urban Farm\, \n3990 Bill Robertson Lane\, Los Angeles\, CA. \nGardening Focus – Growing Winecap Mushrooms and Native Plants \nThis session will explore how winecap mushrooms and native plants can work together to build healthy garden ecosystems. Participants will learn the basics of establishing winecap mushroom beds\, including site selection\, layering materials\, and maintaining moisture so the mycelium can spread. The workshop will also touch on how native plants support soil life\, pollinators\, and long-term garden resilience. Participants will see how to work with winecap spawn\, learning how to incorporate it into wood chip or bed systems that can be adapted for home and community gardens. \nNutrition Topic – Winecap Mushroom \nThe cooking component will focus on preparing winecap mushrooms as a seasonal food. Participants will learn how to clean\, handle\, and cook winecaps in simple\, adaptable recipes that highlight their texture and flavor. The session will cover basic cooking methods\, pairing ideas\, and how to integrate mushrooms into everyday meals as a nutrient-dense\, farm-connected ingredient. \nWorkshop Details \n\n\nDate & Time: Saturday\, February 14\, 2026 | 9:00 AM – 12:00 PM \n\n\nLocation: CSU/Expo Mini Urban Farm\, 3990 Bill Robertson Ln\, Los Angeles\, CA \n\n\nFormat: In-person only \n\n\nRegistration: https://www.eventbrite.com/e/garden-gateway-workshop-tickets-1969806819222?aff=oddtdtcreator \n\n\nRSVP and Deposit Policy \nIn order to help us better prepare for accurate numbers of attendees we are asking for a small deposit ($7) to register for the workshop. Once you attend\, you will receive a voucher to spend the deposit at the Village Market Place. If the deposit is prohibitive\, you may request a waiver by emailing csu@csuinc.org. Please note: waiver recipients who are no-shows the day of the workshop will not be eligible to receive a waiver for future workshops. \nVouchers are redeemable at any time before the final workshop in June 2026. \nThey can be used separately\, or together. \nVouchers cannot be replaced.
URL:https://csuinc.org/event/garden-gateway-tbd-4/
LOCATION:CSU/Expo Mini Farm\, 3990 Bill Robertson Ln\, Los Angeles\, CA\, 90044\, United States
CATEGORIES:Community Services Unlimited Event,CSU/Expo Urban Mini Farm,Garden Gateway
ORGANIZER;CN="Community Services Unlimited Inc.":MAILTO:csu@csuinc.org
END:VEVENT
BEGIN:VEVENT
DTSTART;TZID=UTC:20260314T080000
DTEND;TZID=UTC:20261215T120000
DTSTAMP:20260423T231840
CREATED:20251201T192819Z
LAST-MODIFIED:20260306T171911Z
UID:3695-1773475200-1797336000@csuinc.org
SUMMARY:Garden Gateway:  Get Ready to Spring Forward
DESCRIPTION:The Garden Gateway Workshop will take place on \nSaturday\, March 14\, 2026\, from 9:00 AM to 12:00 PM \nat the CSU/Expo Mini Urban Farm\, 3990 Bill Robertson Ln\, Los Angeles\, CA. \nGardening Topic – Get Ready to Spring Forward \nWe will cover companion planting\, incorporating native plants\, adding flowers to support pollinators and biodiversity\, and using mulch (straw\, sawdust\, and wood mulch for pathways) to protect soil and manage weeds. \nNutrition Topic – Aloo/Sauf (Potato/Fennel Green) \nThe cooking session will feature Aloo/Sauf\, a dish that brings together potatoes and fennel greens\, emphasizing whole-plant use\, flavor\, and seasonal nourishment. \nRSVP and Deposit Policy \nIn order to help us better prepare for accurate numbers of attendees we are asking for a small deposit ($7) to register for the workshop. Once you attend\, you will receive a voucher to spend the deposit at the Village Market Place. If the deposit is prohibitive\, you may request a waiver by emailing csu@csuinc.org. Please note: waiver recipients who are no-shows the day of the workshop will not be eligible to receive a waiver for future workshops. \nVouchers are redeemable at any time before the final workshop in June 2026. They can be used separately\, or together. Vouchers cannot be replaced. \nRegistration link: [Register Here]
URL:https://csuinc.org/event/garden-gateway-tbd-5/
LOCATION:CSU/Expo Mini Farm\, 3990 Bill Robertson Ln\, Los Angeles\, CA\, 90044\, United States
CATEGORIES:Community Services Unlimited Event,CSU/Expo Urban Mini Farm,Garden Gateway
ORGANIZER;CN="Community Services Unlimited Inc.":MAILTO:csu@csuinc.org
END:VEVENT
BEGIN:VEVENT
DTSTART;VALUE=DATE:20260328
DTEND;VALUE=DATE:20260329
DTSTAMP:20260423T231840
CREATED:20251201T193411Z
LAST-MODIFIED:20260306T172228Z
UID:3698-1774656000-1774742399@csuinc.org
SUMMARY:South Central Growers and Harvesters Network
DESCRIPTION:Get ready to connect to the network! Join us in person to see how this program and the people who participate help feed our community. Help increase access to local food by selling what you grow. It’s the perfect chance to meet other growers\, make new friends\, and prepare for the growing season. \n\n\nRSVP LINK
URL:https://csuinc.org/event/prc-scghn-meeting/
LOCATION:CSU/Expo Mini Farm\, 3990 Bill Robertson Ln\, Los Angeles\, CA\, 90044\, United States
CATEGORIES:Community Services Unlimited Event,CSU/Expo Urban Mini Farm,Garden Gateway
ORGANIZER;CN="Community Services Unlimited Inc.":MAILTO:csu@csuinc.org
END:VEVENT
END:VCALENDAR