BEGIN:VCALENDAR
VERSION:2.0
PRODID:-//Community Services Unlimited : Serving The People Body and Soul - ECPv6.15.20//NONSGML v1.0//EN
CALSCALE:GREGORIAN
METHOD:PUBLISH
X-WR-CALNAME:Community Services Unlimited : Serving The People Body and Soul
X-ORIGINAL-URL:https://csuinc.org
X-WR-CALDESC:Events for Community Services Unlimited : Serving The People Body and Soul
REFRESH-INTERVAL;VALUE=DURATION:PT1H
X-Robots-Tag:noindex
X-PUBLISHED-TTL:PT1H
BEGIN:VTIMEZONE
TZID:UTC
BEGIN:STANDARD
TZOFFSETFROM:+0000
TZOFFSETTO:+0000
TZNAME:UTC
DTSTART:20190101T000000
END:STANDARD
END:VTIMEZONE
BEGIN:VEVENT
DTSTART;TZID=UTC:20201118T100000
DTEND;TZID=UTC:20201118T120000
DTSTAMP:20260425T103304
CREATED:20201117T183842Z
LAST-MODIFIED:20201117T183842Z
UID:2280-1605693600-1605700800@csuinc.org
SUMMARY:Nutrition/Cooking Workshop: Versatility of Seeds!
DESCRIPTION:Tune in and learn how to cook different types of seeds in a variety of ways!
URL:https://csuinc.org/event/nutrition-cooking-workshop-versatility-of-seeds/
LOCATION:CA
CATEGORIES:Category Event,Garden Gateway
END:VEVENT
BEGIN:VEVENT
DTSTART;TZID=UTC:20201114T100000
DTEND;TZID=UTC:20201114T103000
DTSTAMP:20260425T103304
CREATED:20201106T235313Z
LAST-MODIFIED:20201106T235313Z
UID:2158-1605348000-1605349800@csuinc.org
SUMMARY:Instagram Live - Gardening Q& A's
DESCRIPTION:Submit questions via email – ggw@csuinc.org and social media – @vmpcsu on Instagram!
URL:https://csuinc.org/event/instagram-live-gardening-q-as/
LOCATION:CA
CATEGORIES:Category Event,Garden Gateway
END:VEVENT
BEGIN:VEVENT
DTSTART;TZID=UTC:20201111T100000
DTEND;TZID=UTC:20201111T120000
DTSTAMP:20260425T103304
CREATED:20201106T225456Z
LAST-MODIFIED:20201106T234146Z
UID:2155-1605088800-1605096000@csuinc.org
SUMMARY:Gardening Video: Seed Saving
DESCRIPTION:Tune in and learn the basics to saving seeds. Build your self sufficiency and help maintain plant diversity!
URL:https://csuinc.org/event/gardening-video-seed-saving/
LOCATION:CA
CATEGORIES:Category Event,Garden Gateway
END:VEVENT
BEGIN:VEVENT
DTSTART;TZID=UTC:20200725T120000
DTEND;TZID=UTC:20200725T133000
DTSTAMP:20260425T103304
CREATED:20200725T223343Z
LAST-MODIFIED:20200723T230607Z
UID:1895-1595678400-1595683800@csuinc.org
SUMMARY:Garden Gateway Virtual Workshop - Ricotta
DESCRIPTION:
URL:https://csuinc.org/event/garden-gateway-virtual-workshop-ricotta/
LOCATION:CA
END:VEVENT
BEGIN:VEVENT
DTSTART;TZID=UTC:20200723T120000
DTEND;TZID=UTC:20200723T170000
DTSTAMP:20260425T103304
CREATED:20200703T070812Z
LAST-MODIFIED:20200703T070958Z
UID:1479-1595505600-1595523600@csuinc.org
SUMMARY:Garden Gateway Virtual Workshop
DESCRIPTION:
URL:https://csuinc.org/event/garden-gateway-virtual-workshop-2/
LOCATION:CA
END:VEVENT
BEGIN:VEVENT
DTSTART;TZID=UTC:20200709T120000
DTEND;TZID=UTC:20200709T180000
DTSTAMP:20260425T103304
CREATED:20200703T070653Z
LAST-MODIFIED:20200703T070653Z
UID:1477-1594296000-1594317600@csuinc.org
SUMMARY:Garden Gateway Virtual Workshop
DESCRIPTION:
URL:https://csuinc.org/event/garden-gateway-virtual-workshop/
LOCATION:CA
END:VEVENT
BEGIN:VEVENT
DTSTART;TZID=UTC:20200627T080000
DTEND;TZID=UTC:20200627T170000
DTSTAMP:20260425T103304
CREATED:20200625T222441Z
LAST-MODIFIED:20200625T222729Z
UID:1254-1593244800-1593277200@csuinc.org
SUMMARY:Produce Bag Pick-up
DESCRIPTION:
URL:https://csuinc.org/event/produce-bag-pick-up/
LOCATION:CA
END:VEVENT
BEGIN:VEVENT
DTSTART;TZID=UTC:20200626T080000
DTEND;TZID=UTC:20200626T170000
DTSTAMP:20260425T103304
CREATED:20170425T101855Z
LAST-MODIFIED:20200625T222316Z
UID:782-1593158400-1593190800@csuinc.org
SUMMARY:Produce Bag Pick-up
DESCRIPTION:Produce Bag Pick-up at VMP
URL:https://csuinc.org/event/history-of-tibet/
LOCATION:Envato HQ\, 121 King Street\, Melbourne\, Victoria\, 3000\, Australia
CATEGORIES:Category Event
ORGANIZER;CN="Organizer Name":MAILTO:Email
END:VEVENT
BEGIN:VEVENT
DTSTART;TZID=UTC:20200618T080000
DTEND;TZID=UTC:20200618T170000
DTSTAMP:20260425T103304
CREATED:20170425T101846Z
LAST-MODIFIED:20170425T101846Z
UID:780-1592467200-1592499600@csuinc.org
SUMMARY:Clothes Coming
DESCRIPTION:[vc_row][vc_column width=”1/2″][vc_column_text]Aivamus volutpat eros pulvinar velit laoreet\, sit amet egestas erat dignissim. Sed quis rutrum tellus\, sit amet viverra felis. Cras sagittis sem sit amet urna feugiat rutrum nam nulla.[/vc_column_text][/vc_column][vc_column width=”1/2″][vc_column_text]Vivamus volutpat eros pulvinar velit laoreet\, sit amet egestas erat dignissim. Sed quis rutrum tellus\, sit amet viverra felis. Cras sagittis sem sit amet urna feugiat rutrum. Nam nulla ipsum\, venenatis malesuada felis quis\, ultricies.[/vc_column_text][/vc_column][/vc_row][vc_row css=”.vc_custom_1492008828909{margin-top: 40px !important;}”][vc_column] OUR CAUSES [vc_column_text]Vivamus volutpat eros pulvinar velit laoreet\, sit amet egestas erat dignissim. Sed quis rutrum tellus\, sit amet viverra felis. Cras sagittis sem sit amet urna feugiat rutrum. Nam nulla ipsum\, venenatis malesuada felis quis\, ultricies convallis neque. Pellentesque tristique fringilla tempus. Vivamus bibendum nibh in dolor pharetra\, a euismod nulla dignissim. Aenean viverra tincidunt nibh\, in imperdiet nunc. Suspendisse eu ante pretium\, consectetur leo at\, congue quam. Nullam hendrerit porta ante vitae tristique. Vestibulum ante ipsum primis in faucibus orci luctus et ultrices posuere cubilia Curae; Vestibulum ligula libero\, feugiat faucibus mattis eget\, pulvinar et ligula.[/vc_column_text][/vc_column][/vc_row]
URL:https://csuinc.org/event/clothes-coming/
LOCATION:Envato HQ\, 121 King Street\, Melbourne\, Victoria\, 3000\, Australia
CATEGORIES:Category Event
ORGANIZER;CN="Organizer Name":MAILTO:Email
END:VEVENT
BEGIN:VEVENT
DTSTART;TZID=UTC:20200606T140000
DTEND;TZID=UTC:20200606T160000
DTSTAMP:20260425T103304
CREATED:20170425T101841Z
LAST-MODIFIED:20170425T101841Z
UID:779-1591452000-1591459200@csuinc.org
SUMMARY:Drought Information
DESCRIPTION:[vc_row][vc_column width=”1/2″][vc_column_text]Aivamus volutpat eros pulvinar velit laoreet\, sit amet egestas erat dignissim. Sed quis rutrum tellus\, sit amet viverra felis. Cras sagittis sem sit amet urna feugiat rutrum nam nulla.[/vc_column_text][/vc_column][vc_column width=”1/2″][vc_column_text]Vivamus volutpat eros pulvinar velit laoreet\, sit amet egestas erat dignissim. Sed quis rutrum tellus\, sit amet viverra felis. Cras sagittis sem sit amet urna feugiat rutrum. Nam nulla ipsum\, venenatis malesuada felis quis\, ultricies.[/vc_column_text][/vc_column][/vc_row][vc_row css=”.vc_custom_1492008828909{margin-top: 40px !important;}”][vc_column] OUR CAUSES [vc_column_text]Vivamus volutpat eros pulvinar velit laoreet\, sit amet egestas erat dignissim. Sed quis rutrum tellus\, sit amet viverra felis. Cras sagittis sem sit amet urna feugiat rutrum. Nam nulla ipsum\, venenatis malesuada felis quis\, ultricies convallis neque. Pellentesque tristique fringilla tempus. Vivamus bibendum nibh in dolor pharetra\, a euismod nulla dignissim. Aenean viverra tincidunt nibh\, in imperdiet nunc. Suspendisse eu ante pretium\, consectetur leo at\, congue quam. Nullam hendrerit porta ante vitae tristique. Vestibulum ante ipsum primis in faucibus orci luctus et ultrices posuere cubilia Curae; Vestibulum ligula libero\, feugiat faucibus mattis eget\, pulvinar et ligula.[/vc_column_text][/vc_column][/vc_row]
URL:https://csuinc.org/event/drought-information/
LOCATION:Envato HQ\, 121 King Street\, Melbourne\, Victoria\, 3000\, Australia
CATEGORIES:Category Event
ORGANIZER;CN="Organizer Name":MAILTO:Email
END:VEVENT
BEGIN:VEVENT
DTSTART;TZID=UTC:20200606T110000
DTEND;TZID=UTC:20200606T130000
DTSTAMP:20260425T103304
CREATED:20170424T094548Z
LAST-MODIFIED:20170424T094548Z
UID:723-1591441200-1591448400@csuinc.org
SUMMARY:Teachers Presentation
DESCRIPTION:[vc_row][vc_column width=”1/2″][vc_column_text]Aivamus volutpat eros pulvinar velit laoreet\, sit amet egestas erat dignissim. Sed quis rutrum tellus\, sit amet viverra felis. Cras sagittis sem sit amet urna feugiat rutrum nam nulla.[/vc_column_text][/vc_column][vc_column width=”1/2″][vc_column_text]Vivamus volutpat eros pulvinar velit laoreet\, sit amet egestas erat dignissim. Sed quis rutrum tellus\, sit amet viverra felis. Cras sagittis sem sit amet urna feugiat rutrum. Nam nulla ipsum\, venenatis malesuada felis quis\, ultricies.[/vc_column_text][/vc_column][/vc_row][vc_row css=”.vc_custom_1492008828909{margin-top: 40px !important;}”][vc_column] OUR CAUSES [vc_column_text]Vivamus volutpat eros pulvinar velit laoreet\, sit amet egestas erat dignissim. Sed quis rutrum tellus\, sit amet viverra felis. Cras sagittis sem sit amet urna feugiat rutrum. Nam nulla ipsum\, venenatis malesuada felis quis\, ultricies convallis neque. Pellentesque tristique fringilla tempus. Vivamus bibendum nibh in dolor pharetra\, a euismod nulla dignissim. Aenean viverra tincidunt nibh\, in imperdiet nunc. Suspendisse eu ante pretium\, consectetur leo at\, congue quam. Nullam hendrerit porta ante vitae tristique. Vestibulum ante ipsum primis in faucibus orci luctus et ultrices posuere cubilia Curae; Vestibulum ligula libero\, feugiat faucibus mattis eget\, pulvinar et ligula.[/vc_column_text][/vc_column][/vc_row]
URL:https://csuinc.org/event/teachers-presentation/
LOCATION:Envato HQ\, 121 King Street\, Melbourne\, Victoria\, 3000\, Australia
CATEGORIES:Category Event
ORGANIZER;CN="Organizer Name":MAILTO:Email
END:VEVENT
BEGIN:VEVENT
DTSTART;TZID=UTC:20200514T080000
DTEND;TZID=UTC:20200514T170000
DTSTAMP:20260425T103304
CREATED:20170425T101851Z
LAST-MODIFIED:20170425T101851Z
UID:781-1589443200-1589475600@csuinc.org
SUMMARY:Grammar Books
DESCRIPTION:[vc_row][vc_column width=”1/2″][vc_column_text]Aivamus volutpat eros pulvinar velit laoreet\, sit amet egestas erat dignissim. Sed quis rutrum tellus\, sit amet viverra felis. Cras sagittis sem sit amet urna feugiat rutrum nam nulla.[/vc_column_text][/vc_column][vc_column width=”1/2″][vc_column_text]Vivamus volutpat eros pulvinar velit laoreet\, sit amet egestas erat dignissim. Sed quis rutrum tellus\, sit amet viverra felis. Cras sagittis sem sit amet urna feugiat rutrum. Nam nulla ipsum\, venenatis malesuada felis quis\, ultricies.[/vc_column_text][/vc_column][/vc_row][vc_row css=”.vc_custom_1492008828909{margin-top: 40px !important;}”][vc_column] OUR CAUSES [vc_column_text]Vivamus volutpat eros pulvinar velit laoreet\, sit amet egestas erat dignissim. Sed quis rutrum tellus\, sit amet viverra felis. Cras sagittis sem sit amet urna feugiat rutrum. Nam nulla ipsum\, venenatis malesuada felis quis\, ultricies convallis neque. Pellentesque tristique fringilla tempus. Vivamus bibendum nibh in dolor pharetra\, a euismod nulla dignissim. Aenean viverra tincidunt nibh\, in imperdiet nunc. Suspendisse eu ante pretium\, consectetur leo at\, congue quam. Nullam hendrerit porta ante vitae tristique. Vestibulum ante ipsum primis in faucibus orci luctus et ultrices posuere cubilia Curae; Vestibulum ligula libero\, feugiat faucibus mattis eget\, pulvinar et ligula.[/vc_column_text][/vc_column][/vc_row]
URL:https://csuinc.org/event/grammar-books/
LOCATION:Envato HQ\, 121 King Street\, Melbourne\, Victoria\, 3000\, Australia
CATEGORIES:Category Event
ORGANIZER;CN="Organizer Name":MAILTO:Email
END:VEVENT
END:VCALENDAR