BEGIN:VCALENDAR
VERSION:2.0
PRODID:-//Community Services Unlimited : Serving The People Body and Soul - ECPv6.15.20//NONSGML v1.0//EN
CALSCALE:GREGORIAN
METHOD:PUBLISH
X-WR-CALNAME:Community Services Unlimited : Serving The People Body and Soul
X-ORIGINAL-URL:https://csuinc.org
X-WR-CALDESC:Events for Community Services Unlimited : Serving The People Body and Soul
REFRESH-INTERVAL;VALUE=DURATION:PT1H
X-Robots-Tag:noindex
X-PUBLISHED-TTL:PT1H
BEGIN:VTIMEZONE
TZID:UTC
BEGIN:STANDARD
TZOFFSETFROM:+0000
TZOFFSETTO:+0000
TZNAME:UTC
DTSTART:20230101T000000
END:STANDARD
END:VTIMEZONE
BEGIN:VEVENT
DTSTART;TZID=UTC:20240309T090000
DTEND;TZID=UTC:20240309T120000
DTSTAMP:20260425T034027
CREATED:20231011T204304Z
LAST-MODIFIED:20240221T192922Z
UID:3396-1709974800-1709985600@csuinc.org
SUMMARY:Garden Gateway: Preparing for Spring
DESCRIPTION:Join us Saturday March 9th for a free gardening and healthy cooking workshop! \nRSVP Here \nDate: Saturday\, March 9\, 2024 \nTime: 9:00 am – 12:00 Noon \nLocation: CSU/EXPO Urban Mini Farm \n3990 Bill Robertson Ln. Los Angeles\, CA 90037(Next to Senior Center) \nGardening Topic – Preparing for Spring: We will focus on preparing your garden for spring. What to plant now for the spring and when to start planting for summer. We’ll go over how to start plants from seed\, transplanting seedlings\, caring for young plants and companion planting. Come ready for hands-on activities. \nCooking Topic – All Things Fennel: From the bulb\, to the fronds and the seeds – fennel offers a unique flavor to your spring dishes and many nutritional benefits. We will demonstrate how to use all parts of the plant in a variety of dishes and drinks. \nGGW participants must RSVP using this form to receive free materials. RSVP’ing helps us plan for the workshop. Please RSVP individually for each adult that will be attending with you. \n  \nRSVP Here
URL:https://csuinc.org/event/garden-gateway-dba-3/
LOCATION:CSU/Expo Mini Farm\, 3990 Bill Robertson Ln\, Los Angeles\, CA\, 90044\, United States
CATEGORIES:Community Services Unlimited Event,CSU/Expo Urban Mini Farm,Garden Gateway
ORGANIZER;CN="Community Services Unlimited Inc.":MAILTO:csu@csuinc.org
END:VEVENT
END:VCALENDAR