BEGIN:VCALENDAR
VERSION:2.0
PRODID:-//Community Services Unlimited : Serving The People Body and Soul - ECPv6.15.20//NONSGML v1.0//EN
CALSCALE:GREGORIAN
METHOD:PUBLISH
X-ORIGINAL-URL:https://csuinc.org
X-WR-CALDESC:Events for Community Services Unlimited : Serving The People Body and Soul
REFRESH-INTERVAL;VALUE=DURATION:PT1H
X-Robots-Tag:noindex
X-PUBLISHED-TTL:PT1H
BEGIN:VTIMEZONE
TZID:UTC
BEGIN:STANDARD
TZOFFSETFROM:+0000
TZOFFSETTO:+0000
TZNAME:UTC
DTSTART:20230101T000000
END:STANDARD
END:VTIMEZONE
BEGIN:VEVENT
DTSTART;TZID=UTC:20241109T090000
DTEND;TZID=UTC:20241109T120000
DTSTAMP:20260424T154734
CREATED:20241017T225646Z
LAST-MODIFIED:20241108T225756Z
UID:3591-1731142800-1731153600@csuinc.org
SUMMARY:Garden Gateway: Pruning
DESCRIPTION:We’re back with another exciting Garden Gateway workshop! This month\, we’re focusing on fruit tree pruning and seasonal cooking with pumpkin and sage. Join us to learn essential pruning techniques that promote healthy growth and maximize fruit production. Whether you’re a novice or an experienced gardener\, you’ll gain practical insights to enhance the vitality of your trees. \nAfterward\, enjoy a hands-on cooking session where we’ll prepare a warming pumpkin sage soup! This session invites everyone—whether you’re new to cooking or a seasoned chef—to explore the rich\, autumnal flavors of fresh pumpkin paired with aromatic sage. Perfect for bringing seasonal warmth to your home-cooked meals! \nSaturday\, November 9\, 2024 \n9:00 am – 12:00 Noon \nCSU/EXPO Mini Urban Farm \nFREE Gardening & Healthy Cooking Workshop RSVP HERE! \nDon’t miss out on this fun-filled workshop! And as always\, try your luck in our raffle for a chance to win one of 2 rain barrel containers\, exclusively available for a few lucky LADWP customers. \nAlso\, get a sneak peek at our impressive pumpkins! Can you guess the weight? \nStay tuned for gardening tips shared through our Instagram account @CSUINC! \nVirtual Gardening and Nutrition/Cooking Workshops are posted on our YouTube channel\, covering a wide range of topics. \nInterested in volunteering? Join us at the CSU/EXPO Urban Mini Farm on Wednesdays and Fridays from 9 am to Noon. Learn more and RSVP here. \nDon’t forget to shop at The Village Market Place for organic\, fresh\, local produce with discounts and home delivery. EBT shoppers receive 75% off produce! Shop The VMP. \nInterested in selling what you grow? The South Central Growers and Harvesters Network buys produce directly from South Central residents. This network connects urban growers and harvesters to bring fresh\, local food to our community. Register Here. \nPLEASE COMPLETE OUR SURVEY: Your feedback helps us continue to improve our programming and support funding for these workshops. If you’ve participated in GGW\, we encourage you to fill out the survey. Survey Link \nThank you for being part of our community of urban growers. We look forward to growing with you this season! \nWarm regards\, \nThe GROW Team
URL:https://csuinc.org/event/garden-gateway-tbd/
LOCATION:CSU/Expo Mini Farm\, 3990 Bill Robertson Ln\, Los Angeles\, CA\, 90044\, United States
CATEGORIES:Garden Gateway
ORGANIZER;CN="Community Services Unlimited Inc.":MAILTO:csu@csuinc.org
END:VEVENT
END:VCALENDAR